BEGIN:VCALENDAR
VERSION:2.0
PRODID:-//ChamberMaster//Event Calendar 2.0//EN
METHOD:PUBLISH
X-PUBLISHED-TTL:P3D
REFRESH-INTERVAL:P3D
CALSCALE:GREGORIAN
BEGIN:VEVENT
DTSTART:20260519T210000Z
DTEND:20260519T220000Z
X-MICROSOFT-CDO-ALLDAYEVENT:FALSE
SUMMARY:Tween Solve the Case Mystery Party
DESCRIPTION:There's a mystery afoot! A suspicious crime was committed at a hotel and it's up to you and your detective agency to solve the case! Solve puzzles\, use teamwork\, and investigate clues in order to find the culprit. Geared for ages 8-11. Registration is required. Call\, visit the library or sign up online.
X-ALT-DESC;FMTTYPE=text/html:There&rsquo\;s a mystery afoot! A suspicious crime was committed at a hotel and it&rsquo\;s up to you and your detective agency to solve the case! Solve puzzles\, use teamwork\, and investigate clues in order to find the culprit. Geared for ages 8-11. Registration is required. Call\, visit the library or sign up <a href="https://georgeculver.librarycalendar.com/event/tween-mystery-party-6147">online</a>.
LOCATION:George Culver Community Library - Sauk City
UID:e.1184.38548
SEQUENCE:3
DTSTAMP:20260421T185926Z
URL:https://business.saukprairie.com/events/details/tween-solve-the-case-mystery-party-38548
END:VEVENT

END:VCALENDAR
