BEGIN:VCALENDAR
VERSION:2.0
PRODID:-//ChamberMaster//Event Calendar 2.0//EN
METHOD:PUBLISH
X-PUBLISHED-TTL:P3D
REFRESH-INTERVAL:P3D
CALSCALE:GREGORIAN
BEGIN:VEVENT
DTSTART:20260425T140000Z
DTEND:20260425T170000Z
X-MICROSOFT-CDO-ALLDAYEVENT:FALSE
SUMMARY:Free Medication Take Back Day
DESCRIPTION:Follow disposal instructions below:\n\n\n	In a Ziploc  bag\, combine all pills (discard/recycle empty bottles)\, ointment/creams (discard boxes)\, and powders. Keep liquids in original containers.\n	In another bag\, place inhalers\, injectable medications\, and sharps containers.\n	Sharps containers available upon request.\n\n\nNote: Discard sunscreen\, soaps\, moisturizer\, and other cosmetics in regular trash.\n\n\n\nThe event will take place Saturday\, April 25\, 2026\, 9am-12pm at the Sauk Prairie Police Department\, 640 13th Street\, Prairie du Sac.\n\nSponsored by the Drug Enforcement Administration and the Sauk Prairie Healthcare Foundation. Special thanks to the Sauk City and Prairie du Sac Utilities\, Sauk Prairie Police Department\, and Sauk Prairie Healthcare volunteers.
X-ALT-DESC;FMTTYPE=text/html:<p>Follow disposal instructions below:</p>\n\n<ol>\n	<li>In a&nbsp\;Ziploc&reg\; bag\, combine all pills (discard/recycle empty bottles)\, ointment/creams (discard boxes)\, and powders. Keep liquids in original containers.</li>\n	<li>In another bag\, place inhalers\, injectable medications\, and sharps containers.</li>\n	<li>Sharps containers available upon request.</li>\n</ol>\n\n<p>Note: Discard sunscreen\, soaps\, moisturizer\, and other cosmetics in regular trash.<br />\n<br />\nThe event will take place Saturday\, April 25\, 2026\, 9am-12pm at the Sauk Prairie Police Department\,&nbsp\;640 13th Street\, Prairie du Sac.</p>\n\n<p>Sponsored by the Drug Enforcement Administration and the Sauk Prairie Healthcare Foundation. Special thanks to the Sauk City and Prairie du Sac Utilities\, Sauk Prairie Police Department\, and Sauk Prairie Healthcare volunteers.</p>\n
LOCATION:
UID:e.1184.38347
SEQUENCE:3
DTSTAMP:20260421T200314Z
URL:https://business.saukprairie.com/events/details/free-medication-take-back-day-04-25-2026-38347
END:VEVENT

END:VCALENDAR
