BEGIN:VCALENDAR
VERSION:2.0
PRODID:-//ChamberMaster//Event Calendar 2.0//EN
METHOD:PUBLISH
X-PUBLISHED-TTL:P3D
REFRESH-INTERVAL:P3D
CALSCALE:GREGORIAN
BEGIN:VEVENT
DTSTART:20240726T220000Z
DTEND:20240728T180000Z
X-MICROSOFT-CDO-ALLDAYEVENT:FALSE
SUMMARY:Women's Rage and Reconnect Retreat
DESCRIPTION:Rage\, Reconnect\, & Step into your Power\n\nLet the screaming\, bashing\, and emotional healing begin! \n\n\n\nDisorderly Conduct Rage Rooms & Vitality Values Wellness have teamed up to offer you a safe space to be heard\, reconnect\, and heal from emotions that are holding you from living a joyful life.\n\n\n\nAt this weekend Retreat you are free to yell\, throw\, hit\, and break inanimate objects as a means to release your pent up frustrations and anger\, and to start the emotional healing process in letting go of what no longer serves your highest purpose!\n\n\n\nAre you experiencing a heartbreak\, anger or agony due to a Break-up\, Separation\, Divorce or Loss of a Loved one?\n\n \n\nDo you feel Emotionally Blocked\, Rage\, or have a Lost Sense of Purpose?\n\n \n\nIf you've answered "yes"\, this Retreat is for you! \n\n\n\nWe are excited to bring together 10 like minded women for the purpose of deep healing\, focusing on self-care through self discovery\, connecting with a soul family and making your first steps in creating your dream life!\n\nAre you Ready!?\n\n\n\nWe promise you 3 days of inner balance\, self-care\, and connections\, that will leave you feeling refreshed\, empowered\, and ready to manifest your deepest desires and dreams into reality!\n\n\n\nJoin us July 26-28\, 2024 for an all Women's Rage and Reconnect Retreat in Sauk City! We've organized the whole weekend\, so you can let your decision fatigue take a break and know that everything is handled! \n\n\n\nIf you're interested in joining our Women's Rage and Reconnect Retreat\, please complete the interest form here: https://forms.gle/B9AEDgb3PHPzfBDBA
X-ALT-DESC;FMTTYPE=text/html:<h1><span style="font-size:14px"><span style="color:#FF0000"><u><strong>Rage\, Reconnect\, &amp\; Step into your Power</strong></u></span></span></h1>\n\n<p><span style="font-size:14px">Let the screaming\, bashing\, and emotional healing begin!&nbsp\;<br />\n<br />\nDisorderly Conduct Rage Rooms &amp\; Vitality Values Wellness have teamed up to offer you a safe space to be heard\, reconnect\, and heal from emotions that are holding you from living a joyful life.<br />\n<br />\nAt this weekend Retreat you are free to yell\, throw\, hit\, and break inanimate objects as a means to release your pent up frustrations and anger\, and to start the emotional healing process in letting go of what no longer serves your&nbsp\;highest purpose!<br />\n<br />\nAre you experiencing a heartbreak\, anger or agony&nbsp\;due to a Break-up\, Separation\, Divorce or Loss of a Loved one?<br />\n&nbsp\;<br />\nDo you feel Emotionally Blocked\, Rage\, or have a Lost Sense of Purpose?<br />\n&nbsp\;<br />\nIf you&#39\;ve answered &ldquo\;yes&rdquo\;\, this Retreat is for you!&nbsp\;<br />\n<br />\nWe are excited to bring together 10 like minded women&nbsp\;for the purpose of deep healing\, focusing on self-care through&nbsp\;self discovery\, connecting with a soul family and making&nbsp\;your first steps in creating your dream life!<br />\n<u><strong>Are you Ready!?</strong></u><br />\n<br />\nWe promise you 3 days of inner balance\, self-care\, and connections\,&nbsp\;that will leave you feeling refreshed\, empowered\, and ready to manifest your&nbsp\;deepest desires and dreams into reality!<br />\n<br />\n<span style="color:rgb(5\, 5\, 5)">Join us July 26-28\, 2024 for an all Women&#39\;s Rage and Reconnect Retreat in Sauk City! We&#39\;ve organized the whole weekend\, so you can let your decision fatigue take a break and know that everything is handled!&nbsp\;<br />\n<br />\nIf you&#39\;re interested in joining our Women&#39\;s Rage and Reconnect Retreat\, please complete the interest form here: <a class="x1i10hfl xjbqb8w x1ejq31n xd10rxx x1sy0etr x17r0tee x972fbf xcfux6l x1qhh985 xm0m39n x9f619 x1ypdohk xt0psk2 xe8uvvx xdj266r x11i5rnm xat24cr x1mh8g0r xexx8yu x4uap5 x18d9i69 xkhd6sd x16tdsg8 x1hl2dhg xggy1nq x1a2a7pz x1sur9pj xkrqix3 x1fey0fg" href="https://forms.gle/B9AEDgb3PHPzfBDBA?fbclid=IwZXh0bgNhZW0CMTAAAR1axiro0hUhziWGbMdSws9ADfsF8L6qvOoraznP-1aP6TLCmqe5yfTxfj4_aem_AUMPjRmyfLGNTbwvfVGL-704oUJ-1iZtShFaqVJZJ809s1aK2MGtttSztwsPYJEyakKiX3_TVXw3d-W13MXNyzuK" rel="nofollow noreferrer" style="color: var(--blue-link)\; cursor: pointer\; text-decoration-line: none\; outline: none\; list-style: none\; margin: 0px\; text-align: inherit\; border-style: none\; padding: 0px\; border-width: 0px\; box-sizing: border-box\; background-color: transparent\; -webkit-tap-highlight-color: transparent\; touch-action: manipulation\; display: inline\; font-family: inherit\;" tabindex="0" target="_blank">https://forms.gle/B9AEDgb3PHPzfBDBA</a></span></span></p>\n
LOCATION:The Retreat will be held at Disorderly Conduct Rage Rooms\, 806 Water Street\, Sauk City\, WI. We will have activities around the area including pilates\, river tubing/float\, all-inclusive meals\, and hotel.
UID:e.1184.32816
SEQUENCE:3
DTSTAMP:20260420T013017Z
URL:http://business.saukprairie.com/events/details/women-s-rage-and-reconnect-retreat-32816
END:VEVENT

END:VCALENDAR
