BEGIN:VCALENDAR
VERSION:2.0
PRODID:-//ChamberMaster//Event Calendar 2.0//EN
METHOD:PUBLISH
X-PUBLISHED-TTL:P3D
REFRESH-INTERVAL:P3D
CALSCALE:GREGORIAN
BEGIN:VEVENT
DTSTART;VALUE=DATE:20241121
DTEND;VALUE=DATE:20241122
TRANSP:TRANSPARENT
X-MICROSOFT-CDO-ALLDAYEVENT:TRUE
SUMMARY:Wollersheim Winery's Ruby Nouveau Day
DESCRIPTION:Join us for an extraordinary celebration as Winemaker Philippe marks his 40th vintage at Wollersheim! In honor of this milestone\, we invite you to a special toast in the Bistro as Philippe taps the first barrel of Ruby Nouveau. This Wisconsin version of Beaujolais Nouveau\, made from our estate-grown Foch grapes\, is crafted using traditional whole-berry fermentation methods.\n\nWe have some extra surprises for our guests to make this event even more special. Don't miss the chance to celebrate Philippe's incredible legacy and the debut of this year's Ruby Nouveau!\n\n\n\nBook Your Stay Today
X-ALT-DESC;FMTTYPE=text/html:<p>Join us&nbsp\;for an&nbsp\;extraordinary celebration&nbsp\;as Winemaker Philippe marks his&nbsp\;40th vintage&nbsp\;at Wollersheim! In honor of this milestone\, we invite you to a special toast in the Bistro as Philippe taps the first barrel of&nbsp\;Ruby Nouveau. This Wisconsin version of&nbsp\;Beaujolais Nouveau\, made from our estate-grown Foch grapes\, is crafted using traditional whole-berry fermentation methods.</p>\n\n<p>We have some extra surprises&nbsp\;for our guests to make this event even more special. Don&rsquo\;t miss the chance to celebrate Philippe&rsquo\;s incredible legacy and the debut of this year&rsquo\;s Ruby Nouveau!<br />\n<br />\n<a href="https://www.saukprairie.com/list/category/accommodations-1250" style="text-align: center\; font-family: &quot\;Open Sans&quot\;\, sans-serif\; font-size: 15px\; color: rgb(46\, 84\, 113)\;" target="_blank"><span style="color: rgb(255\, 255\, 255)\;"><span class="solidButton blue" style="display: inline-block\; border: none\; border-radius: 4px\; box-shadow: rgba(0\, 0\, 0\, 0.5) 1px 1px 2px\; background-color: rgb(46\, 84\, 113)\; padding: 0.3em 1em\; vertical-align: middle\; text-decoration-line: none\; text-transform: uppercase\;"><strong>Book Your Stay Today &gt\;</strong></span></span></a></p>\n
LOCATION:Wollersheim Winery
UID:e.1184.33486
SEQUENCE:3
DTSTAMP:20260419T200358Z
URL:http://business.saukprairie.com/events/details/wollersheim-winery-s-ruby-nouveau-day-33486
END:VEVENT

END:VCALENDAR
