BEGIN:VCALENDAR
VERSION:2.0
PRODID:-//ChamberMaster//Event Calendar 2.0//EN
METHOD:PUBLISH
X-PUBLISHED-TTL:P3D
REFRESH-INTERVAL:P3D
CALSCALE:GREGORIAN
BEGIN:VEVENT
DTSTART:20240803T213000Z
DTEND:20240804T010000Z
X-MICROSOFT-CDO-ALLDAYEVENT:FALSE
SUMMARY:Witwen Concert at the Campground: Koch Marshall Trio
DESCRIPTION:A Wisconsin Music Association Hall of Fame inductee\, Greg Koch leads this stellar Trio consisting of American guitarist Greg Koch\, his son Dylan Koch on drums and Hammond B3 specialist Toby Lee Marshall. At the heart of this organ trio is a blues sensibility - but Koch's compositions are an amalgam of rock\, funk\, jazz and country served up with heavy grooves and dynamic improvisations delivered with no small dose of humor and occasional wild abandon.\n\nGrounds and Concessions open at 4:30pm.  Concerts begin at 6:00pm.\n\n\n\nConcert goers bring lawn chairs\, blankets and their own picnic supper\, or purchase food from the food stand on the grounds\, for a relaxing\, beautiful summer evening of music. \n\n\n\nIn the event of rain\, concerts are held in the tabernacle on the grounds.
X-ALT-DESC;FMTTYPE=text/html:<p>A Wisconsin Music Association Hall of Fame inductee\, Greg Koch leads this stellar Trio consisting of American guitarist Greg Koch\, his son Dylan Koch on drums and Hammond B3 specialist Toby Lee Marshall. At the heart of this organ trio is a blues sensibility - but Koch&#39\;s compositions are an amalgam of rock\, funk\, jazz and country served up with heavy grooves and dynamic improvisations delivered with no small dose of humor and occasional wild abandon.</p>\n\n<p>Grounds and Concessions&nbsp\;open&nbsp\;at 4:30pm.&nbsp\; Concerts begin at 6:00pm.<br />\n<br />\nConcert goers bring lawn chairs\, blankets and their own picnic supper\, or purchase food from the food stand on the grounds\, for a relaxing\, beautiful summer evening of music.&nbsp\;<br />\n<br />\nIn the event of rain\, concerts are held in the tabernacle on the grounds.</p>\n
LOCATION:Witwen Campground S9855 Highway E Witwen\, WI Just north of the Witwen bridge on County Road E
UID:e.1184.31624
SEQUENCE:3
DTSTAMP:20260420T001317Z
URL:http://business.saukprairie.com/events/details/witwen-concert-at-the-campground-koch-marshall-trio-31624
END:VEVENT

END:VCALENDAR
