BEGIN:VCALENDAR
VERSION:2.0
PRODID:-//ChamberMaster//Event Calendar 2.0//EN
METHOD:PUBLISH
X-PUBLISHED-TTL:P3D
REFRESH-INTERVAL:P3D
CALSCALE:GREGORIAN
BEGIN:VEVENT
DTSTART:20240321T233000Z
DTEND:20240322T010000Z
X-MICROSOFT-CDO-ALLDAYEVENT:FALSE
SUMMARY:Free Lecture: Badger's Champion Trees
DESCRIPTION:All are welcome to attend this free educational talk. Light refreshments are provided. The talk will be recorded and posted online.\n\n\n\nBadger's Champion Trees\n\nDan Halling (Educator and Board member\, Badger History Group)\n\n \n\nDan Halling\, a Badger History Group Board member and retired history teacher\, will relate his quest to locate and measure the largest trees on the Badger Lands. He'll answer the who\, what\, when\, where\, why and how of this project and show some of the exceptional trees he's discovered.\n\n \n\nThe 2023-24 "We Are Sauk Prairie" lecture series is sponsored by the Rooted in Conservation Fund at the Community Foundation of South Central Wisconsin.
X-ALT-DESC;FMTTYPE=text/html:<div>All are welcome to attend this free educational talk. Light refreshments are provided. The talk will be recorded and posted online.</div>\n\n<div><br />\n<strong>Badger&rsquo\;s Champion Trees</strong><br />\nDan Halling (Educator and Board member\, Badger History Group)<br />\n&nbsp\;</div>\n\n<div>Dan Halling\, a Badger History Group Board member and retired history teacher\, will relate his quest to locate and measure the largest trees on the Badger Lands. He&rsquo\;ll answer the who\, what\, when\, where\, why and how of this project and show some of the exceptional trees he&rsquo\;s discovered.<br />\n&nbsp\;</div>\n\n<div>The 2023-24 &quot\;We Are Sauk Prairie&quot\; lecture series is sponsored by the Rooted in Conservation Fund at the Community Foundation of South Central Wisconsin.</div>\n
LOCATION:All events will be held in the George Culver Community Library's community room.
UID:e.1184.31010
SEQUENCE:3
DTSTAMP:20260420T072840Z
URL:http://business.saukprairie.com/events/details/we-are-sauk-prairie-free-lecture-series-03-21-2024-31010
END:VEVENT

END:VCALENDAR
