BEGIN:VCALENDAR
VERSION:2.0
PRODID:-//ChamberMaster//Event Calendar 2.0//EN
METHOD:PUBLISH
X-PUBLISHED-TTL:P3D
REFRESH-INTERVAL:P3D
CALSCALE:GREGORIAN
BEGIN:VEVENT
DTSTART;VALUE=DATE:20240518
DTEND;VALUE=DATE:20240519
TRANSP:TRANSPARENT
X-MICROSOFT-CDO-ALLDAYEVENT:TRUE
SUMMARY:Unleashing Hope - A Fundraiser for Wisconsin Veterans
DESCRIPTION:A Fundraiser for Wisconsin Veterans\n\nSaturday\, May 18th\, 2024\n\nWe are hosting a fundraiser to support Ketchum's Got Your Six\, an organization that provides training for service dogs to Wisconsin Veterans suffering from PTSD.\n\nBrandon Ketchum\, a Marine who served two tours of duty in Iraq\, embodied courage and sacrifice. After leaving the Marines\, he joined the National Guard and bravely served in Afghanistan\, where he was injured both physically and emotionally. Tragically\, on July 8\, 2016\, he lost his battle with PTSD.\n\nEvery day\, 22 veterans die by suicide in the United States. Ketchum's Got Your Six is dedicated to making a difference by raising funds to provide training for service dogs to Wisconsin veterans suffering from PTSD. These loyal companions offer invaluable support\, comfort\, and a lifeline to those who have bravely served our country.\n\nOur goal with this event is clear: if we can save a single life\, it is worth every effort.\n\nEvent Highlights\n\n\n	Commemorative Whiskey: Enjoy our exclusive Red\, White\, & Blue Whiskey in a commemorative bottle.\n	Live Music: Tap your feet to patriotic tunes performed by talented local artists.\n	Delicious Food: Indulge in mouthwatering dishes from Wollersheim Bistro.\n	Beverages: Sip on fine wines and crafted cocktails from Wollersheim Winery.\n\n\nSee you at Wollersheim on May 18th.
X-ALT-DESC;FMTTYPE=text/html:<h2>A Fundraiser for Wisconsin Veterans</h2>\n\n<p>Saturday\, May 18th\, 2024</p>\n\n<p>We are hosting a fundraiser to support Ketchum&rsquo\;s Got Your Six\, an organization that provides training for service dogs to Wisconsin Veterans suffering from PTSD.</p>\n\n<p>Brandon Ketchum\, a Marine who served two tours of duty in Iraq\, embodied courage and sacrifice. After leaving the Marines\, he joined the National Guard and bravely served in Afghanistan\, where he was injured&mdash\;both physically and emotionally. Tragically\, on July 8\, 2016\, he lost his battle with PTSD.</p>\n\n<p>Every day\, 22 veterans die by suicide in the United States. Ketchum&rsquo\;s Got Your Six is dedicated to making a difference by raising funds to provide training for service dogs to Wisconsin veterans suffering from PTSD. These loyal companions offer invaluable support\, comfort\, and a lifeline to those who have bravely served our country.</p>\n\n<p>Our goal with this event is clear: if we can save a single life\, it is worth every effort.</p>\n\n<p>Event Highlights</p>\n\n<ul>\n	<li>Commemorative Whiskey: Enjoy our exclusive Red\, White\, &amp\; Blue Whiskey in a commemorative bottle.</li>\n	<li>Live Music: Tap your feet to patriotic tunes performed by talented local artists.</li>\n	<li>Delicious Food: Indulge in mouthwatering dishes from Wollersheim Bistro.</li>\n	<li>Beverages: Sip on fine wines and crafted cocktails from Wollersheim Winery.</li>\n</ul>\n\n<p>See you at Wollersheim on May 18th.</p>\n
LOCATION:Wollersheim Winery
UID:e.1184.32332
SEQUENCE:3
DTSTAMP:20260420T042217Z
URL:http://business.saukprairie.com/events/details/unleashing-hope-a-fundraiser-for-wisconsin-veterans-32332
END:VEVENT

END:VCALENDAR
