BEGIN:VCALENDAR
VERSION:2.0
PRODID:-//ChamberMaster//Event Calendar 2.0//EN
METHOD:PUBLISH
X-PUBLISHED-TTL:P3D
REFRESH-INTERVAL:P3D
CALSCALE:GREGORIAN
BEGIN:VEVENT
DTSTART:20240619T110000Z
DTEND:20240619T123000Z
X-MICROSOFT-CDO-ALLDAYEVENT:FALSE
SUMMARY:Ukulele JamFest - Free!
DESCRIPTION:Beginner Ukulele Workshop\n\nWednesday\, June 19\n\n6:00 - 7:30pm\n\n\n\nFor ages 5 to 105!\n\n\n	\n	Learn 3 chords and play multiple songs.\n	\n	\n	Bring a ukulele or borrow one of ours.\n	\n	\n	No cost to participate.\n	\n	\n	Light refreshments provided.\n	\n\n\n\n7:15pm 'concert' to showcase our new skills\n\n\nContact us with questions music@makingservicepersonal.org call/txt 608-561-8468
X-ALT-DESC;FMTTYPE=text/html:<h3><strong>Beginner Ukulele Workshop</strong><br />\nWednesday\, June 19<br />\n6:00 - 7:30pm<br />\n<br />\nFor ages 5 to 105!</h3>\n\n<ul style="list-style-type:square">\n	<li>\n	<p>Learn 3 chords and play multiple songs.</p>\n	</li>\n	<li>\n	<p>Bring a ukulele or borrow one of ours.</p>\n	</li>\n	<li>\n	<p>No cost to participate.</p>\n	</li>\n	<li>\n	<p>Light refreshments provided.</p>\n	</li>\n</ul>\n\n<div>\n<p><strong><span style="color:rgb(0\, 53\, 97)\; font-family:arial\; font-size:13pt">7:15pm &#39\;concert&#39\; to showcase our new skills</span></strong></p>\n</div>\n\n<p>Contact us with questions music@makingservicepersonal.org call/txt 608-561-8468</p>\n
LOCATION:821 Industry Rd\; Sauk City WI 53583
UID:e.1184.32764
SEQUENCE:3
DTSTAMP:20260420T025028Z
URL:http://business.saukprairie.com/events/details/ukulele-jamfest-free-32764
END:VEVENT

END:VCALENDAR
