BEGIN:VCALENDAR
VERSION:2.0
PRODID:-//ChamberMaster//Event Calendar 2.0//EN
METHOD:PUBLISH
X-PUBLISHED-TTL:P3D
REFRESH-INTERVAL:P3D
CALSCALE:GREGORIAN
BEGIN:VEVENT
DTSTART:20241031T213000Z
DTEND:20241031T233000Z
X-MICROSOFT-CDO-ALLDAYEVENT:FALSE
SUMMARY:Trunk or Treat 2024
DESCRIPTION:Trunk or Treat 2024\n\nComing to Prairie du Sac this October!\n\n\n\nSt. James Church\n\n415 Washington St.\n\nPrairie du Sac\, WI\n\n\n\nThursday\, October 31st\n\n4:30PM-6:30PM\n\n\n\nMake us your first stop before the community "Trick or Treat" event and get a head start on your candy collection!\n\n\n\nComplimentary food and kids games provided.\n\n\n\nFun for the whole family!
X-ALT-DESC;FMTTYPE=text/html:Trunk or Treat 2024<br />\nComing to Prairie du Sac this October!<br />\n<br />\nSt. James Church<br />\n415 Washington St.<br />\nPrairie du Sac\, WI<br />\n<br />\nThursday\, October 31st<br />\n4:30PM-6:30PM<br />\n<br />\nMake us your first stop before the community &quot\;Trick or Treat&quot\; event and get a head start on your candy collection!<br />\n<br />\nComplimentary food and kids games provided.<br />\n<br />\nFun for the whole family!
LOCATION:St. James Church
UID:e.1184.33455
SEQUENCE:3
DTSTAMP:20260419T213117Z
URL:http://business.saukprairie.com/events/details/trunk-or-treat-2024-33455
END:VEVENT

END:VCALENDAR
