BEGIN:VCALENDAR
VERSION:2.0
PRODID:-//ChamberMaster//Event Calendar 2.0//EN
METHOD:PUBLISH
X-PUBLISHED-TTL:P3D
REFRESH-INTERVAL:P3D
CALSCALE:GREGORIAN
BEGIN:VEVENT
DTSTART:20241026T200000Z
DTEND:20241026T230000Z
X-MICROSOFT-CDO-ALLDAYEVENT:FALSE
SUMMARY:Trunk Or Treat
DESCRIPTION:Hello and welcome to Trunk or Treat! This event is all about providing a safe and fun environment for kids to trick-or-treat\, play games\, enjoy face painting\, and savor delicious snacks. Explore creatively decorated trunks handing out tasty candy\, enjoy a variety of games like pick-a-duck\, a bouncy house\, and corn hole\, and let our talented face painter add some extra fun with cute and spooky designs. Quench your thirst with hot chocolate\, apple cider\, coffee\, or mix-your-own mocktails\, and satisfy your hunger with a selection of snacks from 2-3 food trucks. We can't wait to see you there!
X-ALT-DESC;FMTTYPE=text/html:Hello and welcome to Trunk or Treat! This event is all about providing a safe and fun environment for kids to trick-or-treat\, play games\, enjoy face painting\, and savor delicious snacks. Explore creatively decorated trunks handing out tasty candy\, enjoy a variety of games like pick-a-duck\, a bouncy house\, and corn hole\, and let our talented face painter add some extra fun with cute and spooky designs. Quench your thirst with hot chocolate\, apple cider\, coffee\, or mix-your-own mocktails\, and satisfy your hunger with a selection of snacks from 2-3 food trucks. We can&rsquo\;t wait to see you there!
LOCATION:1111 Sycamore St\, Sauk City\, WI 53583
UID:e.1184.32993
SEQUENCE:3
DTSTAMP:20260419T213159Z
URL:http://business.saukprairie.com/events/details/trunk-or-treat-10-26-2024-32993
END:VEVENT

END:VCALENDAR
