BEGIN:VCALENDAR
VERSION:2.0
PRODID:-//ChamberMaster//Event Calendar 2.0//EN
METHOD:PUBLISH
X-PUBLISHED-TTL:P3D
REFRESH-INTERVAL:P3D
CALSCALE:GREGORIAN
BEGIN:VEVENT
DTSTART:20240514T230000Z
DTEND:20240515T003000Z
X-MICROSOFT-CDO-ALLDAYEVENT:FALSE
SUMMARY:True Charity Volunteer Enrichment: The Road to Justice
DESCRIPTION:At 6:8\, we long to provide "true charity".  But what does that mean?  And how do your actions as a volunteer contribute to this goal?  \n\n \n\nWe invite you to join us for True Charity Volunteer Enrichment: The Road to Justice\, where together we'll explore true justice\, compassion\, and results.\n\n\nDate: Tuesday\, May 14th\n\nTime: 6:00 - 7:30pm\n\nLocation: 6:8 Building\, 821 Industry Rd\, Sauk City\, WI 53583\n\nSign up to attend \n\n\n \n\n6:8 is part of the True Charity Network\; a national coalition of churches and nonprofits that serve people in poverty. We feel the weight of poverty around us and all have ideas about how we want to help. But not all of our ideas of helping actually alleviate poverty nor get to the root or ultimate goal of charity\, which is for all individuals to flourish.\n\n \n\nDuring this course\, we'll watch a series of short videos together and discuss reflection questions. We'll encourage each other to process and apply what we learn to our service.\n\nPlease join us for this volunteer enrichment opportunity! Sign up here to attend: https://signup.com/go/QHYPCUq\n\nClick here to watch a preview video of the course.
X-ALT-DESC;FMTTYPE=text/html:<div style="text-align:center"><strong>At 6:8\, we long to provide &quot\;true charity&quot\;.&nbsp\; But what does that mean?&nbsp\; And how do your actions as a volunteer contribute to this goal?&nbsp\;&nbsp\;</strong></div>\n\n<div style="text-align:center">&nbsp\;</div>\n\n<div style="text-align:center"><span style="color:rgb(32\, 18\, 77)">We invite you to join us for&nbsp\;</span><span style="color:rgb(32\, 18\, 77)"><a href="https://www.facebook.com/events/1147783319710095" style="color: rgb(17\, 85\, 204)\;" target="_blank"><strong>True Charity Volunteer Enrichment: The Road to Justice</strong></a>\, where together we&#39\;ll explore&nbsp\;</span><strong>true justice\, compassion\, and results.</strong>\n\n<div>\n<div style="text-align:center"><strong>Date:</strong>&nbsp\;Tuesday\, May 14th</div>\n\n<div style="text-align:center"><strong>Time:</strong>&nbsp\;6:00 - 7:30pm</div>\n\n<div style="text-align:center"><strong>Location:</strong>&nbsp\;6:8 Building\, 821 Industry Rd\, Sauk City\, WI 53583</div>\n\n<div style="text-align:center"><strong><a href="https://signup.com/client/invitation2/secure/152463052050/false#/invitation" style="color: rgb(17\, 85\, 204)\;" target="_blank">Sign up to attend</a></strong>&nbsp\;</div>\n</div>\n\n<div>&nbsp\;</div>\n\n<div><strong>6:8</strong><span style="color:rgb(32\, 18\, 77)">&nbsp\;is part of the&nbsp\;</span><strong>True Charity Network</strong><span style="color:rgb(32\, 18\, 77)">\; a national coalition of churches and nonprofits that serve people in poverty. We feel the weight of poverty around us and all have ideas about how we want to help. But not all of our ideas of helping actually alleviate poverty nor get to the root or ultimate goal of charity\, which is for all individuals to flourish.</span></div>\n\n<div>&nbsp\;</div>\n\n<div><span style="color:rgb(32\, 18\, 77)">During this course\, we&#39\;ll watch a series of short videos together and discuss reflection questions. We&#39\;ll encourage each other to process and apply what we learn to our service.</span></div>\n\n<div><span style="color:rgb(32\, 18\, 77)">Please join us for this volunteer enrichment opportunity! Sign up here to attend:&nbsp\;</span><a href="https://l.facebook.com/l.php?u=https%3A%2F%2Fsignup.com%2Fgo%2FQHYPCUq%3Ffbclid%3DIwZXh0bgNhZW0CMTAAAR2Qy7abR6hsIL67O2NshNra6zCnAZk_5o0gCxLeKJGAosOkIGGe6Syljuk_aem_AZVyM2Uh-QNq4puTonZJGgs9TRcVIIykSoa1UqwfEsgbyQ-AfFaJsmEw9YMat7D1Wf3vBuvXzhWfkNzcTzUoBsc3&amp\;h=AT3sYCg6L47NInvfI1vJndrrqui098-RDmykEpnOqiRGzkIb-riJBB3dLePjG4ZbHuwyEApQZTSgCmj761EZoQVbwAsk3oKRCBrejN5fnQINMDMAhq-t242AumHckKVq-w&amp\;__tn__=q&amp\;c[0]=AT2a51xRPkT9rdTP9CrL1ReYUo1v0XO12L9lI8d_nMMk9QSWX2agyxo02QifPLO3krr5YGICjXSWfwzcLnvxEIezqMr9K_fQqgby_z3kVtUqm-QZYMHV7LqmIDrtjqbDlJqGUHUgtrsRQY7pMlg8pHX8RcOTomhXUxgLut82H-N-qlhj9LfC" rel="nofollow noreferrer" style="color: rgb(17\, 85\, 204)\; font-family: inherit\; background-color: transparent\; text-decoration-line: none\; outline: none\; list-style: none\; margin: 0px\; text-align: inherit\; border-style: none\; padding: 0px\; border-width: 0px\; box-sizing: border-box\; display: inline\;" target="_blank">https://signup.com/go/QHYPCUq</a></div>\n\n<p><span style="color:rgb(32\, 18\, 77)\; font-family:arial\,helvetica\,sans-serif\; font-size:small">Click&nbsp\;</span><a href="https://vimeo.com/814402832/09cf7e0fd2" style="font-size: small\; color: rgb(17\, 85\, 204)\; font-family: Arial\, Helvetica\, sans-serif\;" target="_blank">here</a><span style="color:rgb(32\, 18\, 77)\; font-family:arial\,helvetica\,sans-serif\; font-size:small">&nbsp\;to watch a preview video of the course.</span></p>\n\n<p><br />\n&nbsp\;</p>\n</div>\n
LOCATION:6:8 Building
UID:e.1184.32370
SEQUENCE:3
DTSTAMP:20260420T042538Z
URL:http://business.saukprairie.com/events/details/true-charity-volunteer-enrichment-the-road-to-justice-32370
END:VEVENT

END:VCALENDAR
