BEGIN:VCALENDAR
VERSION:2.0
PRODID:-//ChamberMaster//Event Calendar 2.0//EN
METHOD:PUBLISH
X-PUBLISHED-TTL:P3D
REFRESH-INTERVAL:P3D
CALSCALE:GREGORIAN
BEGIN:VEVENT
DTSTART:20240309T010000Z
DTEND:20240309T040000Z
X-MICROSOFT-CDO-ALLDAYEVENT:FALSE
SUMMARY:Triflemore at River Arts Gallery on Water
DESCRIPTION:Triflemore: Friday\, March 8\, 2024 7pm\n\n$15\n\nat River Arts on Water (590 Water St\, downtown Prairie du Sac)\n\nTriflemore is a transatlantic folk duo\, including one from small-town America and the other from the northernmost islands of Scotland\, creating progressive folk with flavors of vintage British Isles folk baroque and Celtic.\n\nFrom the first line of poetry written\, melody sewn together\, all the way to exploring new spaces to share words and notes\, they savor the creation of connection. Music influences include Jos  Gonz lez\, Nick Drake\, Sandy Denny\, M ire Brennan\, Karen Matheson\, Tony McManus\, Bon Iver\, and Antoine Dufour.
X-ALT-DESC;FMTTYPE=text/html:<p><strong>Triflemore:&nbsp\;Friday\, March 8\, 2024 7pm</strong></p>\n\n<p>$15</p>\n\n<p><strong>at River Arts on Water (590 Water St\, downtown Prairie du Sac)</strong></p>\n\n<p>Triflemore is a transatlantic folk duo\, including one from small-town America and the other from the northernmost islands of Scotland\, creating progressive folk with flavors of vintage British Isles folk baroque and Celtic.</p>\n\n<p>From the first line of poetry written\, melody sewn together\, all the way to exploring new spaces to share words and notes\, they savor the creation of connection. Music influences include Jos&eacute\; Gonz&aacute\;lez\, Nick Drake\, Sandy Denny\, M&aacute\;ire Brennan\, Karen Matheson\, Tony McManus\, Bon Iver\, and Antoine Dufour.</p>\n
LOCATION:
UID:e.1184.31536
SEQUENCE:3
DTSTAMP:20260420T072743Z
URL:http://business.saukprairie.com/events/details/triflemore-at-river-arts-gallery-on-water-31536
END:VEVENT

END:VCALENDAR
