BEGIN:VCALENDAR
VERSION:2.0
PRODID:-//ChamberMaster//Event Calendar 2.0//EN
METHOD:PUBLISH
X-PUBLISHED-TTL:P3D
REFRESH-INTERVAL:P3D
CALSCALE:GREGORIAN
BEGIN:VEVENT
DTSTART:20240608T000000Z
DTEND:20240607T170000Z
X-MICROSOFT-CDO-ALLDAYEVENT:FALSE
SUMMARY:The Vines Summer Music Series
DESCRIPTION:The Vines Summer Music Series\n\nVisit The Vines Facebook Page for weekly information
X-ALT-DESC;FMTTYPE=text/html:The Vines Summer Music Series<br />\nVisit The Vines Facebook Page for weekly information
LOCATION:The Vines
UID:e.1184.32369
SEQUENCE:3
DTSTAMP:20260420T025254Z
URL:http://business.saukprairie.com/events/details/the-vines-summer-music-series-32369
END:VEVENT

END:VCALENDAR
