BEGIN:VCALENDAR
VERSION:2.0
PRODID:-//ChamberMaster//Event Calendar 2.0//EN
METHOD:PUBLISH
X-PUBLISHED-TTL:P3D
REFRESH-INTERVAL:P3D
CALSCALE:GREGORIAN
BEGIN:VEVENT
DTSTART:20241203T140000Z
DTEND:20241203T153000Z
X-MICROSOFT-CDO-ALLDAYEVENT:FALSE
SUMMARY:The Morning Blend
DESCRIPTION:Wake up and join us for coffee and conversation on the 1st Tuesday of each month\, from 8:00 - 9:30 am. This is an opportunity for members to connect with other members and learn about community happenings.
X-ALT-DESC;FMTTYPE=text/html:Wake up and join us for coffee and conversation on the 1st Tuesday of each month\, from 8:00 - 9:30 am. This is an opportunity for members to connect with other members and learn about community happenings.&nbsp\;
LOCATION:6:8 Inc.
UID:e.1184.31405
SEQUENCE:3
DTSTAMP:20260419T183302Z
URL:http://business.saukprairie.com/events/details/the-morning-blend-31405
END:VEVENT

END:VCALENDAR
