BEGIN:VCALENDAR
VERSION:2.0
PRODID:-//ChamberMaster//Event Calendar 2.0//EN
METHOD:PUBLISH
X-PUBLISHED-TTL:P3D
REFRESH-INTERVAL:P3D
CALSCALE:GREGORIAN
BEGIN:VEVENT
DTSTART:20250209T010000Z
DTEND:20250209T023000Z
X-MICROSOFT-CDO-ALLDAYEVENT:FALSE
SUMMARY:The MadHatters A Cappella
DESCRIPTION:The MadHatters A Cappella\n\nSaturday\, February 8\, 2025 7pm\n\n$25/Adults\, $10/Students (ages 4-18)\n\nat the Sauk Prairie River Arts Center (105-9th Street\, Prairie du Sac)\n\nFounded 1997 in Madison\, the MadHatters are the oldest a cappella group at the University of Wisconsin-Madison. Easily identified by their trademark red jackets\, the "Hatters entertain audiences all across the Midwest with their goofy antics\, dashing looks\, and musical talent. These boys have reached incredible heights\, with previous iterations of the group singing for audiences such as the White House for President Obama\, Governor Tony Evers\, and Lambeau Field!"
X-ALT-DESC;FMTTYPE=text/html:<p><strong>The MadHatters A Cappella</strong></p>\n\n<p><strong>Saturday\,&nbsp\;February&nbsp\;8\, 2025 7pm</strong></p>\n\n<p>$25/Adults\, $10/Students (ages 4-18)</p>\n\n<p><strong>at the Sauk Prairie River Arts Center (105-9th Street\, Prairie du Sac)</strong></p>\n\n<p>Founded 1997 in Madison\, the MadHatters are the oldest a cappella group at the University of Wisconsin-Madison. Easily identified by their trademark red jackets\, the &ldquo\;Hatters entertain audiences all across the Midwest with their goofy antics\, dashing looks\, and musical talent. These boys have reached incredible heights\, with previous iterations of the group singing for audiences such as the White House for President Obama\, Governor Tony Evers\, and Lambeau Field!&rdquo\;</p>\n
LOCATION:Saturday\, February 8\, 2025 7pm at the Sauk Prairie River Arts Center (105-9th Street\, Prairie du Sac)
UID:e.1184.34694
SEQUENCE:3
DTSTAMP:20260419T153030Z
URL:http://business.saukprairie.com/events/details/the-madhatters-a-cappella-34694
END:VEVENT

END:VCALENDAR
