BEGIN:VCALENDAR
VERSION:2.0
PRODID:-//ChamberMaster//Event Calendar 2.0//EN
METHOD:PUBLISH
X-PUBLISHED-TTL:P3D
REFRESH-INTERVAL:P3D
CALSCALE:GREGORIAN
BEGIN:VEVENT
DTSTART:20240820T234500Z
DTEND:20240821T010000Z
X-MICROSOFT-CDO-ALLDAYEVENT:FALSE
SUMMARY:Teen Tuesday: Zombie Survival Scavenger Hunt
DESCRIPTION:Teen Tuesday:  Zombie Survival Scavenger Hunt @ Ruth Culver Community Library in Prairie du Sac starting @ 6:45 PM\n\n\n\nCompete in a scavenger hunt for supplies to see if you can be the last survivor of a zombie apocalypse! Teen events are intended for grades 6-12.
X-ALT-DESC;FMTTYPE=text/html:Teen Tuesday:&nbsp\; Zombie Survival Scavenger Hunt @ Ruth Culver Community Library in Prairie du Sac starting @ 6:45 PM<br />\n<br />\nCompete in a scavenger hunt for supplies to see if you can be the last survivor of a zombie apocalypse! Teen events are intended for grades 6-12.
LOCATION:Ruth Culver Community Library - Prairie du Sac
UID:e.1184.32985
SEQUENCE:3
DTSTAMP:20260420T001343Z
URL:http://business.saukprairie.com/events/details/teen-tuesday-zombie-survival-scavenger-hunt-32985
END:VEVENT

END:VCALENDAR
