BEGIN:VCALENDAR
VERSION:2.0
PRODID:-//ChamberMaster//Event Calendar 2.0//EN
METHOD:PUBLISH
X-PUBLISHED-TTL:P3D
REFRESH-INTERVAL:P3D
CALSCALE:GREGORIAN
BEGIN:VEVENT
DTSTART:20240910T234500Z
DTEND:20240911T004500Z
X-MICROSOFT-CDO-ALLDAYEVENT:FALSE
SUMMARY:Teen Tuesday: Oreo Taste Test
DESCRIPTION:Taste a variety of Oreo flavors and vote for your favorite! Teen events are intended for grades 6-12.
X-ALT-DESC;FMTTYPE=text/html:Taste a variety of Oreo flavors and vote for your favorite! Teen events are intended for grades 6-12.
LOCATION:Ruth Culver Community Library - Prairie du Sac
UID:e.1184.33005
SEQUENCE:3
DTSTAMP:20260419T225515Z
URL:http://business.saukprairie.com/events/details/teen-tuesday-oreo-taste-test-33005
END:VEVENT

END:VCALENDAR
