BEGIN:VCALENDAR
VERSION:2.0
PRODID:-//ChamberMaster//Event Calendar 2.0//EN
METHOD:PUBLISH
X-PUBLISHED-TTL:P3D
REFRESH-INTERVAL:P3D
CALSCALE:GREGORIAN
BEGIN:VEVENT
DTSTART:20240924T234500Z
DTEND:20240925T004500Z
X-MICROSOFT-CDO-ALLDAYEVENT:FALSE
SUMMARY:Teen Tuesday: DIY Erasers
DESCRIPTION:Sculpt your own erasers using special clay in a variety of colors. All tools and clay provided\, but erasers will need to be baked at home. Wear old clothes! Teen events are intended for grades 6-12.
X-ALT-DESC;FMTTYPE=text/html:Sculpt your own erasers using special clay in a variety of colors. All tools and clay provided\, but erasers will need to be baked at home. Wear old clothes! Teen events are intended for grades 6-12.
LOCATION:Ruth Culver Community Library - Prairie du Sac
UID:e.1184.33049
SEQUENCE:3
DTSTAMP:20260419T225531Z
URL:http://business.saukprairie.com/events/details/teen-tuesday-diy-erasers-33049
END:VEVENT

END:VCALENDAR
