BEGIN:VCALENDAR
VERSION:2.0
PRODID:-//ChamberMaster//Event Calendar 2.0//EN
METHOD:PUBLISH
X-PUBLISHED-TTL:P3D
REFRESH-INTERVAL:P3D
CALSCALE:GREGORIAN
BEGIN:VEVENT
DTSTART;VALUE=DATE:20240308
DTEND;VALUE=DATE:20240309
TRANSP:TRANSPARENT
X-MICROSOFT-CDO-ALLDAYEVENT:TRUE
SUMMARY:Teen No School Event: Jackbox Games
DESCRIPTION:Teen No School Event:  Jackbox Games @ Ruth Culver Community Library in Prairie du Sac starting @ 1 PM\n\n\n\nThere's no school today so head to the library for some Jackbox Games! We'll play Fibbage 4\, Roomerang\, Quixort\, Junktopia and Nonsensory. Please bring a phone or tablet if possible. We'll also have the cotton candy machine going! This event is especially for grades 6-12.
X-ALT-DESC;FMTTYPE=text/html:Teen No School Event:&nbsp\; Jackbox Games @ Ruth Culver Community Library in Prairie du Sac starting @ 1 PM<br />\n<br />\nThere&#39\;s no school today so head to the library for some Jackbox Games! We&#39\;ll play Fibbage 4\, Roomerang\, Quixort\, Junktopia and Nonsensory. Please bring a phone or tablet if possible. We&#39\;ll also have the cotton candy machine going! This event is especially for grades <span font-size:="" segoe="" style="color: rgb(5\, 5\, 5)\; font-family: " ui="">6-12.</span><span font-size:="" segoe="" style="color: rgb(5\, 5\, 5)\; font-family: " ui="">&nbsp\;</span>
LOCATION:Ruth Culver Community Library - Prairie du Sac
UID:e.1184.31583
SEQUENCE:3
DTSTAMP:20260420T072952Z
URL:http://business.saukprairie.com/events/details/teen-no-school-event-jackbox-games-31583
END:VEVENT

END:VCALENDAR
