BEGIN:VCALENDAR
VERSION:2.0
PRODID:-//ChamberMaster//Event Calendar 2.0//EN
METHOD:PUBLISH
X-PUBLISHED-TTL:P3D
REFRESH-INTERVAL:P3D
CALSCALE:GREGORIAN
BEGIN:VEVENT
DTSTART:20230617T203000Z
DTEND:20230618T010000Z
X-MICROSOFT-CDO-ALLDAYEVENT:FALSE
SUMMARY:Summer Solstice
DESCRIPTION:Wyttenbach's Command Centert Food Truck will be serving up "Truck'in Good Food" at Summer Solstice\n\non Saturday\, June 17th\, at Culver Community Park\, Prairie du Sac"Truck
X-ALT-DESC;FMTTYPE=text/html:Wyttenbach&#39\;s Command Centert Food Truck will be serving up &quot\;<em>Truck&#39\;in Good Food&quot\;&nbsp\;</em>at Summer Solstice<br />\non Saturday\, June 17th\, at Culver Community Park\, Prairie du Sac<em>&quot\;Truck</em>
LOCATION:Culver Community Park
UID:e.1184.30853
SEQUENCE:3
DTSTAMP:20260420T220759Z
URL:http://business.saukprairie.com/events/details/summer-solstice-30853
END:VEVENT

END:VCALENDAR
