BEGIN:VCALENDAR
VERSION:2.0
PRODID:-//ChamberMaster//Event Calendar 2.0//EN
METHOD:PUBLISH
X-PUBLISHED-TTL:P3D
REFRESH-INTERVAL:P3D
CALSCALE:GREGORIAN
BEGIN:VEVENT
DTSTART:20241001T150000Z
DTEND:20241001T154500Z
X-MICROSOFT-CDO-ALLDAYEVENT:FALSE
SUMMARY:Storytimes with Llama Llama
DESCRIPTION:Llama Llama is coming to storytime! Join us for a few fun llama stories\, a craft\, and a meet-and-greet with Llama Llama.
X-ALT-DESC;FMTTYPE=text/html:Llama Llama is coming to storytime! Join us for a few fun llama stories\, a craft\, and a meet-and-greet with Llama Llama.
LOCATION:Ruth Culver Community Library - Prairie du Sac
UID:e.1184.33052
SEQUENCE:3
DTSTAMP:20260419T213135Z
URL:http://business.saukprairie.com/events/details/storytimes-with-llama-llama-33052
END:VEVENT

END:VCALENDAR
