BEGIN:VCALENDAR
VERSION:2.0
PRODID:-//ChamberMaster//Event Calendar 2.0//EN
METHOD:PUBLISH
X-PUBLISHED-TTL:P3D
REFRESH-INTERVAL:P3D
CALSCALE:GREGORIAN
BEGIN:VEVENT
DTSTART:20240820T150000Z
DTEND:20240820T170000Z
X-MICROSOFT-CDO-ALLDAYEVENT:FALSE
SUMMARY:Storytime with a Police Officer
DESCRIPTION:Join us for this special story time with an officer from our local police department!\n\n\n\nAfter a story\, we will have a craft to do\, and the group will be able to see the police car up close in the parking lot.\n\n\n\nAll ages welcome!
X-ALT-DESC;FMTTYPE=text/html:Join us for this special story time with an officer from our local police department!<br />\n<br />\nAfter a story\, we will have a craft to do\, and the group will be able to see the police car up close in the parking lot.<br />\n<br />\nAll ages welcome!
LOCATION:Ruth Culver Community Library (Prairie du Sac)
UID:e.1184.32982
SEQUENCE:3
DTSTAMP:20260420T001112Z
URL:http://business.saukprairie.com/events/details/storytime-with-a-police-officer-32982
END:VEVENT

END:VCALENDAR
