BEGIN:VCALENDAR
VERSION:2.0
PRODID:-//ChamberMaster//Event Calendar 2.0//EN
METHOD:PUBLISH
X-PUBLISHED-TTL:P3D
REFRESH-INTERVAL:P3D
CALSCALE:GREGORIAN
BEGIN:VEVENT
DTSTART:20250125T003000Z
DTEND:20250125T023000Z
X-MICROSOFT-CDO-ALLDAYEVENT:FALSE
SUMMARY:Steppin Out for the Arts: A Line Dancing Fundraiser
DESCRIPTION:Steppin Out for the Arts: A Line Dancing Fundraiser\n\nFriday\, January 24th 2025\n\nVintage Brewing Company   Sauk City (600 Water Street Prairie du Sac\, WI)\n\nDoors open 6:30pm // Dancing begins 7pm-8:30pm\n\nALL AGES WELCOME!\n\nRiver Arts\, Inc. is pairing up with sponsor\, Vintage Brewing Company\, for a night of line dancing to support the 2024-2025 Season. Whether you are an experienced dancer or never kick-ball-changed in your life\, instructor Savannah Smith\, will get you boot scootin' the night away. Join your community and step out for the arts!\n\nTickets on sale Tuesday November 12th\, 2024 at 12pm *Limited capacity*\n\nAdults 18+: $15\n\nStudents: $5\n\nChildren under 4: $5\, free with discount code \n\n**Email info@riverartsinc.org for discount code**
X-ALT-DESC;FMTTYPE=text/html:<p><strong>Steppin Out for the Arts: A Line Dancing Fundraiser</strong></p>\n\n<p>Friday\, January 24th 2025</p>\n\n<p>Vintage Brewing Company &ndash\; Sauk City (600 Water Street Prairie du Sac\, WI)</p>\n\n<p>Doors open 6:30pm // Dancing begins 7pm-8:30pm</p>\n\n<p><strong>ALL AGES WELCOME!</strong></p>\n\n<p>River Arts\, Inc. is pairing up with sponsor\, Vintage Brewing Company\, for a night of line dancing to support the 2024-2025 Season. Whether you are an experienced dancer or never kick-ball-changed in your life\, instructor Savannah Smith\, will get you boot scootin&rsquo\; the night away. Join your community and step out for the arts!</p>\n\n<p>Tickets on sale Tuesday November 12th\, 2024 at 12pm&nbsp\;<strong>*Limited capacity*</strong></p>\n\n<p>Adults 18+: $15</p>\n\n<p>Students: $5</p>\n\n<p>Children under 4: $5\,&nbsp\;<strong>free with discount code&nbsp\;</strong></p>\n\n<p><strong>**Email info@riverartsinc.org for discount code**</strong></p>\n
LOCATION:Friday\, January 24th 2025 Vintage Brewing Company Sauk City (600 Water Street Prairie du Sac\, WI)
UID:e.1184.34691
SEQUENCE:3
DTSTAMP:20260419T171313Z
URL:http://business.saukprairie.com/events/details/steppin-out-for-the-arts-a-line-dancing-fundraiser-34691
END:VEVENT

END:VCALENDAR
