BEGIN:VCALENDAR
VERSION:2.0
PRODID:-//ChamberMaster//Event Calendar 2.0//EN
METHOD:PUBLISH
X-PUBLISHED-TTL:P3D
REFRESH-INTERVAL:P3D
CALSCALE:GREGORIAN
BEGIN:VEVENT
DTSTART:20241025T190000Z
DTEND:20241025T194500Z
X-MICROSOFT-CDO-ALLDAYEVENT:FALSE
SUMMARY:Spy Escape Room: Tween Edition
DESCRIPTION:Attention\, young agents! Your skills are needed for a top-secret mission right here at the library. Welcome to "Operation Shelf Control\," the ultimate spy-themed escape room designed exclusively for tweens. Registration Required. Call or stop in the sign up. Geared for Ages 8-12.
X-ALT-DESC;FMTTYPE=text/html:Attention\, young agents! Your skills are needed for a top-secret mission right here at the library. Welcome to &ldquo\;Operation Shelf Control\,&rdquo\; the ultimate spy-themed escape room designed exclusively for tweens. Registration Required. Call or stop in the sign up. Geared for Ages 8-12.
LOCATION:George Culver Community Library - Sauk City
UID:e.1184.33460
SEQUENCE:3
DTSTAMP:20260419T213039Z
URL:http://business.saukprairie.com/events/details/spy-escape-room-tween-edition-33460
END:VEVENT

END:VCALENDAR
