BEGIN:VCALENDAR
VERSION:2.0
PRODID:-//ChamberMaster//Event Calendar 2.0//EN
METHOD:PUBLISH
X-PUBLISHED-TTL:P3D
REFRESH-INTERVAL:P3D
CALSCALE:GREGORIAN
BEGIN:VEVENT
DTSTART:20240515T160000Z
DTEND:20240516T000000Z
X-MICROSOFT-CDO-ALLDAYEVENT:FALSE
SUMMARY:Spring Swing - Devil's Head Resort 2024
DESCRIPTION:Please Join Us "Fore" a Fun Afternoon of Golf & Networking with the Sauk Prairie Area Chamber of Commerce Members. \n\n\n\nClick here to sign up!
X-ALT-DESC;FMTTYPE=text/html:Please Join Us &quot\;Fore&quot\; a Fun Afternoon of Golf &amp\; Networking with the Sauk Prairie Area Chamber of Commerce Members.&nbsp\;<br />\n<br />\n<a href="https://chambermaster.blob.core.windows.net/userfiles/UserFiles/chambers/1184/File/2024Form1.pdf">Click here</a> to sign up!
LOCATION:Devil's Head Resort
UID:e.1184.32053
SEQUENCE:3
DTSTAMP:20260420T042135Z
URL:http://business.saukprairie.com/events/details/spring-swing-devil-s-head-resort-2024-32053
END:VEVENT

END:VCALENDAR
