BEGIN:VCALENDAR
VERSION:2.0
PRODID:-//ChamberMaster//Event Calendar 2.0//EN
METHOD:PUBLISH
X-PUBLISHED-TTL:P3D
REFRESH-INTERVAL:P3D
CALSCALE:GREGORIAN
BEGIN:VEVENT
DTSTART:20230721T233000Z
DTEND:20230721T233000Z
X-MICROSOFT-CDO-ALLDAYEVENT:FALSE
SUMMARY:Spirits Society Summer Tasting: A Brandy Bonanza!
DESCRIPTION:Mark your calendars for Friday\, July 21\, 2023\, at 6:30 pm\, and get ready to dive into the captivating world of Wollersheim Brandy. Spirits Society Members\, it's time for an enchanting summer night!\n\nJoin us for an intimate evening celebrating our beloved Wollersheim cocktails and brandy\, starting with a delightful welcome cocktail to set the mood.\n\nSit back\, relax\, and let Distiller Tom Lenerz take you on an exquisite brandy journey. Delve into the fascinating stories\, ingredients\, and processes that shape our one-of-a-kind brandies with this intimate tasting event.\n\nAnd that's not all! As a Spirits Society Member\, you'll also get an exclusive taste and chance to pick up our first-ever release of 10-year-old Coquard Brandy   a rare indulgence to remember.\n\nDon't miss this exclusive\, 21-and-up affair! Remember\, this event is open to Spirits Society Members and their guests only   cheers to an unforgettable summer evening at Spirits Society!\n\nNot a Wollersheim Spirit Society member? Your purchase of any three Wollersheim Distillery Spirits qualifies you for membership with no sign-up fee
X-ALT-DESC;FMTTYPE=text/html:<div class="x11i5rnm xat24cr x1mh8g0r x1vvkbs xtlvy1s" style="margin: 0.5em 0px 0px\; overflow-wrap: break-word\; font-family: &quot\;Segoe UI Historic&quot\;\, &quot\;Segoe UI&quot\;\, Helvetica\, Arial\, sans-serif\; color: rgb(5\, 5\, 5)\; font-size: 15px\;">Mark your calendars for Friday\, July 21\, 2023\, at 6:30 pm\, and get ready to dive into the captivating world of Wollersheim Brandy. Spirits Society Members\, it&#39\;s time for an enchanting summer night!</div>\n\n<div class="x11i5rnm xat24cr x1mh8g0r x1vvkbs xtlvy1s" style="margin: 0.5em 0px 0px\; overflow-wrap: break-word\; font-family: &quot\;Segoe UI Historic&quot\;\, &quot\;Segoe UI&quot\;\, Helvetica\, Arial\, sans-serif\; color: rgb(5\, 5\, 5)\; font-size: 15px\;">Join us for an intimate evening celebrating our beloved Wollersheim cocktails and brandy\, starting with a delightful welcome cocktail to set the mood.</div>\n\n<div class="x11i5rnm xat24cr x1mh8g0r x1vvkbs xtlvy1s" style="margin: 0.5em 0px 0px\; overflow-wrap: break-word\; font-family: &quot\;Segoe UI Historic&quot\;\, &quot\;Segoe UI&quot\;\, Helvetica\, Arial\, sans-serif\; color: rgb(5\, 5\, 5)\; font-size: 15px\;">Sit back\, relax\, and let Distiller Tom Lenerz take you on an exquisite brandy journey. Delve into the fascinating stories\, ingredients\, and processes that shape our one-of-a-kind brandies with this intimate tasting event.</div>\n\n<div class="x11i5rnm xat24cr x1mh8g0r x1vvkbs xtlvy1s" style="margin: 0.5em 0px 0px\; overflow-wrap: break-word\; font-family: &quot\;Segoe UI Historic&quot\;\, &quot\;Segoe UI&quot\;\, Helvetica\, Arial\, sans-serif\; color: rgb(5\, 5\, 5)\; font-size: 15px\;">And that&#39\;s not all! As a Spirits Society Member\, you&#39\;ll also get an exclusive taste and chance to pick up our first-ever release of 10-year-old Coquard Brandy &ndash\; a rare indulgence to remember.</div>\n\n<div class="x11i5rnm xat24cr x1mh8g0r x1vvkbs xtlvy1s" style="margin: 0.5em 0px 0px\; overflow-wrap: break-word\; font-family: &quot\;Segoe UI Historic&quot\;\, &quot\;Segoe UI&quot\;\, Helvetica\, Arial\, sans-serif\; color: rgb(5\, 5\, 5)\; font-size: 15px\;">Don&#39\;t miss this exclusive\, 21-and-up affair! Remember\, this event is open to Spirits Society Members and their guests only &ndash\; cheers to an unforgettable summer evening at Spirits Society!</div>\n\n<div class="x11i5rnm xat24cr x1mh8g0r x1vvkbs xtlvy1s" style="margin: 0.5em 0px 0px\; overflow-wrap: break-word\; font-family: &quot\;Segoe UI Historic&quot\;\, &quot\;Segoe UI&quot\;\, Helvetica\, Arial\, sans-serif\; color: rgb(5\, 5\, 5)\; font-size: 15px\;">Not a Wollersheim Spirit Society member? Your purchase of any three Wollersheim Distillery Spirits qualifies you for membership with no sign-up fee</div>\n
LOCATION:Wollersheim Winery & Distillery 7876 State Rd. 188\, Prairie du Sac
UID:e.1184.30899
SEQUENCE:3
DTSTAMP:20260420T180622Z
URL:http://business.saukprairie.com/events/details/spirits-society-summer-tasting-a-brandy-bonanza-30899
END:VEVENT

END:VCALENDAR
