BEGIN:VCALENDAR
VERSION:2.0
PRODID:-//ChamberMaster//Event Calendar 2.0//EN
METHOD:PUBLISH
X-PUBLISHED-TTL:P3D
REFRESH-INTERVAL:P3D
CALSCALE:GREGORIAN
BEGIN:VEVENT
DTSTART:20240914T000000Z
DTEND:20240915T190000Z
X-MICROSOFT-CDO-ALLDAYEVENT:FALSE
SUMMARY:SPHS Drama Presents "As You Like It"
DESCRIPTION:Sauk Prairie Drama will present As You Like It by William Shakespeare on Friday & Saturday\, September 13-14 at 7 p.m. and Sunday\, September 15 at 2 p.m.\n\n\n\nSet in a Wisconsin forest during deer hunting season\, this timeless comedy features    love at first sight\, lots of mistaken identity\, and some good old-fashioned country tunes. This isn't your grandmother's Shakespeare!\n\n\n\nAdvance tickets may be purchased in person at River Arts on Water (590 Water Street\, Prairie du Sac) or online https://www.riverartsinc.org/sphs-asyoulikeit/. Tickets will also be sold at the door beginning 45 minutes prior to each show.\n\n\n\nIf you still think Shakespeare is boring\, c'mon out to see ours   we think you'll change your mind!
X-ALT-DESC;FMTTYPE=text/html:Sauk Prairie Drama will present <em>As You&nbsp\;Like It</em> by William Shakespeare on Friday &amp\;&nbsp\;Saturday\, September 13-14 at 7 p.m. and&nbsp\;Sunday\, September 15 at 2 p.m.<br />\n<br />\nSet in a Wisconsin forest during deer hunting season\, this timeless comedy features&nbsp\; &nbsp\; love at first sight\, lots of mistaken identity\, and some good old-fashioned country&nbsp\;tunes. This isn&rsquo\;t your grandmother&rsquo\;s Shakespeare!<br />\n<br />\nAdvance tickets may be purchased in person at River Arts on Water (590 Water Street\, Prairie du Sac) or online https://www.riverartsinc.org/sphs-asyoulikeit/. Tickets will also be sold at the door&nbsp\;beginning 45 minutes prior to each show.<br />\n<br />\nIf you still think Shakespeare is boring\,&nbsp\;c&rsquo\;mon out to see ours &mdash\; we think you&rsquo\;ll&nbsp\;change your mind!
LOCATION:Sauk Prairie High School River Arts Center 105 9th Street Prairie du Sac WI 53578
UID:e.1184.33042
SEQUENCE:3
DTSTAMP:20260419T225328Z
URL:http://business.saukprairie.com/events/details/sphs-drama-presents-as-you-like-it-33042
END:VEVENT

END:VCALENDAR
