BEGIN:VCALENDAR
VERSION:2.0
PRODID:-//ChamberMaster//Event Calendar 2.0//EN
METHOD:PUBLISH
X-PUBLISHED-TTL:P3D
REFRESH-INTERVAL:P3D
CALSCALE:GREGORIAN
BEGIN:VEVENT
DTSTART:20241214T190000Z
DTEND:20241215T021500Z
X-MICROSOFT-CDO-ALLDAYEVENT:FALSE
SUMMARY:SPHS: A Madrigal Celebration
DESCRIPTION:We are excited to invite you to our madrigal celebration! Join us Saturday\, December 14\, 2024 for one of two shows (1pm and 6pm)\, or both if you want! This celebration will include an hour of Hors d'oeuvres\, full of character engagement\, followed by a Queen's Theatre Performance.\n\n\n\nTickets are $25 per person. Tickets may be purchased in person at River Arts on Water (590 Water Street\, Prairie du Sac) or online https://www.riverartsinc.org/madrigal/\n\nHuzzah!
X-ALT-DESC;FMTTYPE=text/html:We are excited to invite you to our madrigal celebration!&nbsp\;Join us Saturday\, December 14\, 2024 for one of two shows (1pm and 6pm)\, or both if you want! This celebration will include an hour of Hors d&#39\;oeuvres\, full of character engagement\, followed by a Queen&#39\;s Theatre Performance.<br />\n<br />\nTickets are $25 per person. Tickets may be purchased in person at River Arts on Water (590 Water Street\, Prairie du Sac) or online https://www.riverartsinc.org/madrigal/<br />\nHuzzah!<br />\n&nbsp\;\n<div>\n<div>&nbsp\;</div>\n</div>\n
LOCATION:Sauk Prairie River Arts Center 105 - 9th Street Prairie du Sac WI 53578
UID:e.1184.34535
SEQUENCE:3
DTSTAMP:20260419T183303Z
URL:http://business.saukprairie.com/events/details/sphs-a-madrigal-celebration-34535
END:VEVENT

END:VCALENDAR
