BEGIN:VCALENDAR
VERSION:2.0
PRODID:-//ChamberMaster//Event Calendar 2.0//EN
METHOD:PUBLISH
X-PUBLISHED-TTL:P3D
REFRESH-INTERVAL:P3D
CALSCALE:GREGORIAN
BEGIN:VEVENT
DTSTART:20240408T180000Z
DTEND:20240408T200000Z
X-MICROSOFT-CDO-ALLDAYEVENT:FALSE
SUMMARY:Solar Eclipse Party
DESCRIPTION:Plan to celebrate the solar eclipse at our Amazing Eclipse Party\, a partnership with Solar Eclipse Activities for Libraries (SEAL)!\n\nOn Monday\, April 8\, the sun will be almost 90% covered in our area just after 2pm. Drop in between 1 and 3pm for free eclipse glasses\, an outdoor scavenger hunt\, live feeds from NASA\, sun-themed music\, snacks\, and crafts.
X-ALT-DESC;FMTTYPE=text/html:Plan to celebrate the solar eclipse at our Amazing Eclipse Party\, a partnership with Solar Eclipse Activities for Libraries (SEAL)!<br />\nOn Monday\, April 8\, the sun will be almost 90% covered in our area just after 2pm. Drop in between 1 and 3pm for free eclipse glasses\, an outdoor scavenger hunt\, live feeds from NASA\, sun-themed music\, snacks\, and crafts.
LOCATION:615 Phillips Blvd. Sauk City\, WI 53583
UID:e.1184.32058
SEQUENCE:3
DTSTAMP:20260420T055006Z
URL:http://business.saukprairie.com/events/details/solar-eclipse-party-04-08-2024-32058
END:VEVENT

END:VCALENDAR
