BEGIN:VCALENDAR
VERSION:2.0
PRODID:-//ChamberMaster//Event Calendar 2.0//EN
METHOD:PUBLISH
X-PUBLISHED-TTL:P3D
REFRESH-INTERVAL:P3D
CALSCALE:GREGORIAN
BEGIN:VEVENT
DTSTART;VALUE=DATE:20240416
DTEND;VALUE=DATE:20240417
TRANSP:TRANSPARENT
X-MICROSOFT-CDO-ALLDAYEVENT:TRUE
SUMMARY:Silent Book Club
DESCRIPTION:Silent Book Club @ Ruth Culver Community Library in Prairie du Sac starting at 6:45 PM\n\n\n\nJoin the Silent Book Club trend! We'll meet monthly in the library's lower level reading room to briefly share about what we're reading and then enjoy some quiet reading time in good company. Beverages will be provided by the Friends of the Ruth Culver Community Library. No registration is required unless you would like an email reminder.
X-ALT-DESC;FMTTYPE=text/html:Silent Book Club @ Ruth Culver Community Library in Prairie du Sac starting at 6:45 PM<br />\n<br />\nJoin the Silent Book Club trend! We&#39\;ll meet monthly in the library&#39\;s lower level reading room to briefly share about what we&#39\;re reading and then enjoy some quiet reading time in good company. Beverages will be provided by the Friends of the Ruth Culver Community Library. No registration is required unless you would like an email reminder.
LOCATION:Ruth Culver Community Library - Prairie du Sac
UID:e.1184.31598
SEQUENCE:3
DTSTAMP:20260420T055850Z
URL:http://business.saukprairie.com/events/details/silent-book-club-04-16-2024-31598
END:VEVENT

END:VCALENDAR
