BEGIN:VCALENDAR
VERSION:2.0
PRODID:-//ChamberMaster//Event Calendar 2.0//EN
METHOD:PUBLISH
X-PUBLISHED-TTL:P3D
REFRESH-INTERVAL:P3D
CALSCALE:GREGORIAN
BEGIN:VEVENT
DTSTART:20240710T210000Z
DTEND:20240711T010000Z
X-MICROSOFT-CDO-ALLDAYEVENT:FALSE
SUMMARY:Share Night @ Culver's for Sauk Prairie Literacy
DESCRIPTION:Join us in supporting the Sauk Prairie Area Literacy Council\, as 10% of all sales will be donated on Wednesday\, July 10 4-8pm.\n\n\n\nThe Sauk Prairie Area Literacy Council (SPALC) serves adults in the Sauk Prairie area who wish to improve their functional literacy skills. They also provide training for adults who would like to become tutors\, and match them with learners who need their help.\n\n\n\nJoin us and consider giving what you can to our local cause today.
X-ALT-DESC;FMTTYPE=text/html:Join us in supporting the Sauk Prairie Area Literacy Council\, as 10% of all sales will be donated on Wednesday\, July 10 4-8pm.<br />\n<br />\nThe Sauk Prairie Area Literacy Council (SPALC) serves adults in the Sauk Prairie area who wish to improve their functional literacy skills. They also provide training for adults who would like to become tutors\, and match them with learners who need their help.<br />\n<br />\nJoin us and consider giving what you can to our local cause today.
LOCATION:Culver's Sauk City
UID:e.1184.32842
SEQUENCE:3
DTSTAMP:20260420T012846Z
URL:http://business.saukprairie.com/events/details/share-night-culver-s-for-sauk-prairie-literacy-32842
END:VEVENT

END:VCALENDAR
