BEGIN:VCALENDAR
VERSION:2.0
PRODID:-//ChamberMaster//Event Calendar 2.0//EN
METHOD:PUBLISH
X-PUBLISHED-TTL:P3D
REFRESH-INTERVAL:P3D
CALSCALE:GREGORIAN
BEGIN:VEVENT
DTSTART:20230601T163000Z
DTEND:20230601T180000Z
X-MICROSOFT-CDO-ALLDAYEVENT:FALSE
SUMMARY:Serving Up Knowledge: Leadership & Team Building in the Workplace
DESCRIPTION:Join members as we take a time to learn about various topics that will help grow our business while sharing in conversation over lunch. These sessions are from 11:30   1:00 pm\, and members are encouraged to send as many staff as they would like to these training forums. \n\n\n\nLeadership & Team Building in the Workplace\, presented by Rocco Sylvester\, Wisconsin Army National Guard
X-ALT-DESC;FMTTYPE=text/html:Join members as we take a time to learn about various topics that will help grow our business while sharing in conversation over lunch. These sessions are from 11:30 &ndash\; 1:00 pm\, and members are encouraged to send as many staff as they would like to these training forums.&nbsp\;<br />\n<br />\n<span style="font-size:16px\;">Leadership &amp\; Team Building in the Workplace\, presented by Rocco Sylvester\, Wisconsin Army National Guard</span><br />\n<br />\n&nbsp\;
LOCATION:Schwarz Insurance 1420 North Ridge Dr. Prairie du Sac
UID:e.1184.29320
SEQUENCE:3
DTSTAMP:20260420T221302Z
URL:http://business.saukprairie.com/events/details/serving-up-knowledge-leadership-team-building-in-the-workplace-29320
END:VEVENT

END:VCALENDAR
