BEGIN:VCALENDAR
VERSION:2.0
PRODID:-//ChamberMaster//Event Calendar 2.0//EN
METHOD:PUBLISH
X-PUBLISHED-TTL:P3D
REFRESH-INTERVAL:P3D
CALSCALE:GREGORIAN
BEGIN:VEVENT
DTSTART:20241024T200000Z
DTEND:20241024T210000Z
X-MICROSOFT-CDO-ALLDAYEVENT:FALSE
SUMMARY:Science Lab: Making Playdough
DESCRIPTION:Looking for a creative way to spend your day? Come to the library and learn how to make playdough by using science! Experiment with different colors and molds to make awesome playdough creations. No registration required. Geared for Ages 6-11.
X-ALT-DESC;FMTTYPE=text/html:Looking for a creative way to spend your day? Come to the library and learn how to make playdough by using science! Experiment with different colors and molds to make awesome playdough creations. No registration required. Geared for Ages 6-11.
LOCATION:George Culver Community Library - Sauk City
UID:e.1184.33458
SEQUENCE:3
DTSTAMP:20260419T212920Z
URL:http://business.saukprairie.com/events/details/science-lab-making-playdough-33458
END:VEVENT

END:VCALENDAR
