BEGIN:VCALENDAR
VERSION:2.0
PRODID:-//ChamberMaster//Event Calendar 2.0//EN
METHOD:PUBLISH
X-PUBLISHED-TTL:P3D
REFRESH-INTERVAL:P3D
CALSCALE:GREGORIAN
BEGIN:VEVENT
DTSTART:20241006T160000Z
DTEND:20241006T190000Z
X-MICROSOFT-CDO-ALLDAYEVENT:FALSE
SUMMARY:Sauk Prairie Wedding EXPO
DESCRIPTION:Attention all brides and grooms-to-be! Get ready to explore endless wedding possibilities at the Sauk Prairie Wedding EXPO. Join us for an exciting day filled with inspiration and expert advice at the stunning Prairie Landing building.\n\nHighlights Include:\n\n\n	Two Mock Weddings: Experience a stunning outdoor setup at noon and a breathtaking indoor arrangement at 1:00 PM.\n	Building Tours: Take a tour of the Prairie Landing building to help envision your dream wedding.\n	Meet Preferred Vendors: Connect with top local vendors who can make your special day truly unforgettable. Interested in being a preferred vendor? Please reach out to Tywana German\, executivedirector@saukprairie.com\n	Unveil the Future of Wedding Elegance!\n	\n		 Join us for an exclusive first look at our 2025 pricing schedule.\n		Discover three meticulously crafted tiers designed to elevate your wedding experience while respecting your budget.\n	\n	\n\nBe among the first to unlock the secrets of extraordinary celebrations - See you at the EXPO!\n\n\n\nWhether you're planning for 2025 or 2026\, this is your chance to get a head start on your wedding plans while enjoying the lively atmosphere.\n\nBonus: You'll have plenty of time to catch the Packers game after the expo!\n\nTickets: Free! Reserve your spot now by clicking here!\n\nDon't miss out on this incredible opportunity to plan your perfect day with the best vendors Sauk Prairie has to offer. We look forward to seeing you there!
X-ALT-DESC;FMTTYPE=text/html:<p>Attention all brides and grooms-to-be! Get ready to explore endless wedding possibilities at the Sauk Prairie Wedding EXPO. Join us for an exciting day filled with inspiration and expert advice at the stunning Prairie Landing building.</p>\n\n<p><strong>Highlights Include:</strong></p>\n\n<ul>\n	<li><strong>Two Mock Weddings:</strong> Experience a stunning outdoor setup at noon and a breathtaking indoor arrangement at 1:00 PM.</li>\n	<li><strong>Building Tours:</strong> Take a tour of the Prairie Landing building to help envision your dream wedding.</li>\n	<li><strong>Meet Preferred Vendors:</strong> Connect with top local vendors who can make your special day truly unforgettable. Interested in being a preferred vendor? Please reach out to Tywana German\, <a href="mailto:executivedirector@saukprairie.com?subject=Sauk%20Prairie%20Wedding%20Expo%20Preferred%20Vendor">executivedirector@saukprairie.com</a></li>\n	<li><strong>Unveil the Future of Wedding Elegance!</strong>\n	<ul>\n		<li><strong>&#8203\;</strong>Join us for an exclusive first look at our 2025 pricing schedule.</li>\n		<li>Discover three meticulously crafted tiers designed to elevate your wedding experience while respecting your budget.</li>\n	</ul>\n	</li>\n</ul>\nBe among the first to unlock the secrets of extraordinary celebrations - See you at the EXPO!\n\n<p><br />\nWhether you&#39\;re planning for 2025 or 2026\, this is your chance to get a head start on your wedding plans while enjoying the lively atmosphere.</p>\n\n<p><strong>Bonus:</strong> You&#39\;ll have plenty of time to catch the Packers game after the expo!</p>\n\n<p><strong>Tickets:&nbsp\;</strong>Free! Reserve your spot now by <strong><a href="http://saukprairie.chambermaster.com/eventregistration/register/33006">clicking here</a></strong>!</p>\n\n<p>Don&#39\;t miss out on this incredible opportunity to plan your perfect day with the best vendors Sauk Prairie has to offer. We look forward to seeing you there!<br />\n<br />\n&nbsp\;</p>\n
LOCATION:Prairie Landing Culver Community Park
UID:e.1184.33006
SEQUENCE:3
DTSTAMP:20260419T213117Z
URL:http://business.saukprairie.com/events/details/sauk-prairie-wedding-expo-33006
END:VEVENT

END:VCALENDAR
