BEGIN:VCALENDAR
VERSION:2.0
PRODID:-//ChamberMaster//Event Calendar 2.0//EN
METHOD:PUBLISH
X-PUBLISHED-TTL:P3D
REFRESH-INTERVAL:P3D
CALSCALE:GREGORIAN
BEGIN:VEVENT
DTSTART:20250412T140000Z
DTEND:20250412T193000Z
X-MICROSOFT-CDO-ALLDAYEVENT:FALSE
SUMMARY:Sauk Prairie Middle School Spring Craft & Vendor Fair
DESCRIPTION:Join us for our 3rd annual spring show. Enjoy the crafters and vendors here to share their gifts and talents with you! Yummy concessions will be available!\n\n\n\nCheck out Facebook for updated information.
X-ALT-DESC;FMTTYPE=text/html:Join us for our 3rd annual spring show. Enjoy the crafters and vendors here to share their gifts and talents with you! Yummy concessions will be available!<br />\n<br />\nCheck out <strong><a href="https://www.facebook.com/events/1043900000650126?acontext=%7B%22event_action_history%22%3A[%7B%22mechanism%22%3A%22discovery_top_tab%22%2C%22surface%22%3A%22bookmark%22%7D]%2C%22ref_notif_type%22%3Anull%7D">Facebook</a></strong> for updated information.<br />\n&nbsp\;
LOCATION:Sauk Prairie Middle School
UID:e.1184.34830
SEQUENCE:3
DTSTAMP:20260419T123853Z
URL:http://business.saukprairie.com/events/details/sauk-prairie-middle-school-spring-craft-vendor-fair-34830
END:VEVENT

END:VCALENDAR
