BEGIN:VCALENDAR
VERSION:2.0
PRODID:-//ChamberMaster//Event Calendar 2.0//EN
METHOD:PUBLISH
X-PUBLISHED-TTL:P3D
REFRESH-INTERVAL:P3D
CALSCALE:GREGORIAN
BEGIN:VEVENT
DTSTART:20250118T140000Z
DTEND:20250118T174500Z
X-MICROSOFT-CDO-ALLDAYEVENT:FALSE
SUMMARY:Sauk Prairie Kiwanis Pancake Breakfast
DESCRIPTION:Pancakes\n\nSausages\n\nBiscuits & Gravy\n\nCoffee\, Tea\, Milk\, Juice
X-ALT-DESC;FMTTYPE=text/html:Pancakes<br />\nSausages<br />\nBiscuits &amp\; Gravy<br />\nCoffee\, Tea\, Milk\, Juice<br />\n&nbsp\;
LOCATION:River Arts Center Gallery
UID:e.1184.34537
SEQUENCE:3
DTSTAMP:20260419T171247Z
URL:http://business.saukprairie.com/events/details/sauk-prairie-kiwanis-pancake-breakfast-01-18-2025-34537
END:VEVENT

END:VCALENDAR
