BEGIN:VCALENDAR
VERSION:2.0
PRODID:-//ChamberMaster//Event Calendar 2.0//EN
METHOD:PUBLISH
X-PUBLISHED-TTL:P3D
REFRESH-INTERVAL:P3D
CALSCALE:GREGORIAN
BEGIN:VEVENT
DTSTART:20240614T000000Z
DTEND:20240616T000000Z
X-MICROSOFT-CDO-ALLDAYEVENT:FALSE
SUMMARY:Sauk Prairie High School Presents Mean Girls High School Version
DESCRIPTION:Sauk Prairie High School Presents\n\nMean Girls\n\nJune 13-15 at 7pm & June 16 (2pm)\n\nat the Sauk Prairie River Arts Center (105-9th Street\, Prairie du Sac)\n\n$15 (cash or check) or $16.50 (credit/debit card)\n\nTickets on sale Friday\, May 6th at 8am\n\n\nTickets\n\nTickets can be purchased online at the link above or in person at River Arts on Water Gallery (590 Water St\, Prairie du Sac) during our regular hours of Tuesday-Thursday and Saturdays 9am-4pm and Fridays 10am-6pm.\n\n*If you do not receive a ticket confirmation email\, your order did not go through.  Please check your spam folders or call 608-643-5215 for assistance.\n\n*This is a non-River Arts Inc. event therefore River Arts Inc. gift certificates cannot be applied to the order.
X-ALT-DESC;FMTTYPE=text/html:<p style="padding: 0px\; margin: 0px 0px 10px\; color: rgb(0\, 0\, 0)\; font-family: Arial\, Helvetica\, sans-serif\;">Sauk Prairie High School Presents</p>\n\n<p style="padding: 0px\; margin: 0px 0px 10px\; color: rgb(0\, 0\, 0)\; font-family: Arial\, Helvetica\, sans-serif\;"><span style="padding: 0px\; margin: 0px\; font-weight: 700\;">Mean Girls</span></p>\n\n<p style="padding: 0px\; margin: 0px 0px 10px\; color: rgb(0\, 0\, 0)\; font-family: Arial\, Helvetica\, sans-serif\;">June 13-15 at 7pm &amp\; June 16 (2pm)</p>\n\n<p style="padding: 0px\; margin: 0px 0px 10px\; color: rgb(0\, 0\, 0)\; font-family: Arial\, Helvetica\, sans-serif\;">at the Sauk Prairie River Arts Center (105-9th Street\, Prairie du Sac)</p>\n\n<p style="padding: 0px\; margin: 0px 0px 10px\; color: rgb(0\, 0\, 0)\; font-family: Arial\, Helvetica\, sans-serif\;">$15 (cash or check) or $16.50 (credit/debit card)</p>\n\n<p style="padding: 0px\; margin: 0px 0px 10px\; color: rgb(0\, 0\, 0)\; font-family: Arial\, Helvetica\, sans-serif\;"><span style="padding: 0px\; margin: 0px\; font-weight: 700\;">Tickets on sale Friday\, May 6th at 8am</span></p>\n\n<div class="gmail_default" style="padding: 0px\; margin: 0px\; color: rgb(0\, 0\, 0)\; font-family: Arial\, Helvetica\, sans-serif\;">\n<p style="padding: 0px\; margin: 0px 0px 10px\;"><u><strong><a href="https://www.riverartsinc.org/sphs-2/">Tickets</a></strong></u></p>\n\n<p style="padding: 0px\; margin: 0px 0px 10px\;">Tickets can be purchased online at the link above or in person at River Arts on Water Gallery (590 Water St\, Prairie du Sac) during our regular hours of Tuesday-Thursday and Saturdays 9am-4pm and Fridays 10am-6pm.</p>\n\n<p data-wahfont="13" style="padding: 0px\; margin: 0px 0px 10px\;"><em style="padding: 0px\; margin: 0px\;">*If you do not receive a ticket confirmation email\, your order did not go through.&nbsp\; Please check your spam folders or call 608-643-5215 for assistance.</em></p>\n\n<p style="padding: 0px\; margin: 0px\;">*<em style="padding: 0px\; margin: 0px\;">This is a non-River Arts Inc. event therefore River Arts Inc. gift certificates cannot be applied to the order.</em></p>\n</div>\n
LOCATION:Sauk Prairie River Arts Center
UID:e.1184.32635
SEQUENCE:3
DTSTAMP:20260420T025441Z
URL:http://business.saukprairie.com/events/details/sauk-prairie-high-school-presents-mean-girls-high-school-version-32635
END:VEVENT

END:VCALENDAR
