BEGIN:VCALENDAR
VERSION:2.0
PRODID:-//ChamberMaster//Event Calendar 2.0//EN
METHOD:PUBLISH
X-PUBLISHED-TTL:P3D
REFRESH-INTERVAL:P3D
CALSCALE:GREGORIAN
BEGIN:VEVENT
DTSTART:20240817T210000Z
DTEND:20240818T040000Z
X-MICROSOFT-CDO-ALLDAYEVENT:FALSE
SUMMARY:Sauk Prairie FFA Alumni Fall Tractor Pull
DESCRIPTION:2024 Gearing Up For Harvest Truck & Tractor Pull\n\n\n\n\n\nJoin us for the Fall Gearing Up For Harvest\n\nTruck & Tractor Pulls\n\nAugust 17th\, 2024\n\nStarts at 4:00 pm with Farm Pull\n\nFollowed by Southwest Pullers\n\nLive Music by Matt Mueller Band 8:00 pm to 11:00 pm\n\nSauk Prairie FFA Alumni & Supporters Park\n\n998 15th Street\; Prairie du Sac\, WI  53578
X-ALT-DESC;FMTTYPE=text/html:<div data-halign="center" data-hspacer="no_spacer" font-size:="" id="ultimate-heading-512066a94c90abb39" roboto="">\n<div data-responsive-json-new="{" data-ultimate-target=".uvc-heading.ultimate-heading-512066a94c90abb39 h2">\n<p>2024 Gearing Up For Harvest Truck &amp\; Tractor Pull</p>\n</div>\n</div>\n\n<div font-size:="" roboto="">\n<div>\n<p>Join us for the Fall Gearing Up For Harvest</p>\n\n<p>Truck &amp\; Tractor Pulls</p>\n\n<p>August 17th\, 2024</p>\n\n<p>Starts at 4:00 pm with Farm Pull</p>\n\n<p>Followed by Southwest Pullers</p>\n\n<p>Live Music by Matt Mueller Band 8:00 pm to 11:00 pm</p>\n\n<p>Sauk Prairie FFA Alumni &amp\; Supporters Park</p>\n\n<p>998 15th Street\; Prairie du Sac\, WI&nbsp\; 53578</p>\n</div>\n</div>\n
LOCATION:
UID:e.1184.32906
SEQUENCE:3
DTSTAMP:20260420T000230Z
URL:http://business.saukprairie.com/events/details/sauk-prairie-ffa-alumni-fall-tractor-pull-32906
END:VEVENT

END:VCALENDAR
