BEGIN:VCALENDAR
VERSION:2.0
PRODID:-//ChamberMaster//Event Calendar 2.0//EN
METHOD:PUBLISH
X-PUBLISHED-TTL:P3D
REFRESH-INTERVAL:P3D
CALSCALE:GREGORIAN
BEGIN:VEVENT
DTSTART:20241209T180000Z
DTEND:20241209T233000Z
X-MICROSOFT-CDO-ALLDAYEVENT:FALSE
SUMMARY:Sauk Prairie Community Blood Drive
DESCRIPTION:Give Something That Means Something | Give Blood\n\n\n\nThe Friends of Sauk Prairie Healthcare are sponsoring a blood drive on Monday\, December 9th\, 2024 from noon to 5:30 p.m. at St. John's Lutheran Church (100 Oak St.\, Prairie du Sac).\n\n\n\nDonate blood between December 9th and 15th\, 2024 to receive a $15 e-gift card. Learn more at rcblood.org/gifts.\n\n\n\nSchedule an appointment by calling 1-800-RED-CROSS (1-800-733-2767) or visiting RedCrossBlood.org/Give and entering code SaukPrairie.
X-ALT-DESC;FMTTYPE=text/html:Give Something That Means Something | Give Blood<br />\n<br />\nThe Friends of Sauk Prairie Healthcare are sponsoring a blood drive on Monday\, December 9th\, 2024 from noon to 5:30 p.m. at St. John&rsquo\;s Lutheran Church (100 Oak St.\, Prairie du Sac).<br />\n<br />\nDonate blood between December 9th and 15th\, 2024 to receive a $15 e-gift card. Learn more at rcblood.org/gifts.<br />\n<br />\nSchedule an appointment by calling 1-800-RED-CROSS (1-800-733-2767) or visiting <strong><u><a href="https://www.redcrossblood.org/give.html/drive-results?order=DATE&amp\;range=10&amp\;zipSponsor=SaukPrairie">RedCrossBlood.org/Give</a></u></strong> and entering code SaukPrairie.
LOCATION:St. John's Lutheran Church
UID:e.1184.34521
SEQUENCE:3
DTSTAMP:20260419T184723Z
URL:http://business.saukprairie.com/events/details/sauk-prairie-community-blood-drive-34521
END:VEVENT

END:VCALENDAR
