BEGIN:VCALENDAR
VERSION:2.0
PRODID:-//ChamberMaster//Event Calendar 2.0//EN
METHOD:PUBLISH
X-PUBLISHED-TTL:P3D
REFRESH-INTERVAL:P3D
CALSCALE:GREGORIAN
BEGIN:VEVENT
DTSTART;VALUE=DATE:20240616
DTEND;VALUE=DATE:20240617
TRANSP:TRANSPARENT
X-MICROSOFT-CDO-ALLDAYEVENT:TRUE
SUMMARY:Roxbury Valley Trap Club Kippley Shoot & BBQ Chicken
DESCRIPTION:Kippley Shoot and Chicken BBQ\n\n\n\nShoot starts at 9AM and includes merchandise\, Annie Oakleys and Backups.\n\nChicken served starting at 11:30 and goes until we're out. Dine-in and to-go.\n\n\n\nDinner includes:\n\n\n	Steve & Mike's Famous Chicken BBQ\n	Potato Salad\n	Coleslaw\n	Baked Beans\n	Pickles\n	Dinner Rolls\n\nBring the whole the family!!
X-ALT-DESC;FMTTYPE=text/html:<p>Kippley Shoot and Chicken BBQ</p>\n\n<p><br font-size:="" segoe="" ui="" />\nShoot starts at 9AM and includes merchandise\, Annie Oakleys and Backups.<br font-size:="" segoe="" ui="" />\nChicken served starting at 11:30 and goes until we&rsquo\;re out. Dine-in and to-go.<br />\n<br />\nDinner includes:</p>\n\n<ul>\n	<li>Steve &amp\; Mike&#39\;s Famous Chicken BBQ</li>\n	<li>Potato Salad</li>\n	<li>Coleslaw</li>\n	<li>Baked Beans</li>\n	<li>Pickles</li>\n	<li>Dinner Rolls</li>\n</ul>\nBring the whole the family!!
LOCATION:Roxbury Valley Trap Club
UID:e.1184.31540
SEQUENCE:3
DTSTAMP:20260420T025253Z
URL:http://business.saukprairie.com/events/details/roxbury-valley-trap-club-kippley-shoot-bbq-chicken-31540
END:VEVENT

END:VCALENDAR
