BEGIN:VCALENDAR
VERSION:2.0
PRODID:-//ChamberMaster//Event Calendar 2.0//EN
METHOD:PUBLISH
X-PUBLISHED-TTL:P3D
REFRESH-INTERVAL:P3D
CALSCALE:GREGORIAN
BEGIN:VEVENT
DTSTART:20250414T133000Z
DTEND:20250414T153000Z
X-MICROSOFT-CDO-ALLDAYEVENT:FALSE
SUMMARY:Retail & Beyond Roundtable - AI & Facebook: Leveraging Technology for Your Business
DESCRIPTION:Retail & Beyond Roundtable 2025 - AI & Facebook: Leveraging Technology for Your Business\n\n\n\nMonday\, April 14th | 8:30am-10:30am | Sauk Prairie Riverway Welcome Center\n\n\n\nJoin us for an insightful discussion on how Artificial Intelligence (AI) and Facebook can enhance your business. Learn how to use AI tools for content creation\, customer engagement\, and advertising while maximizing Facebook's features to grow your reach and brand visibility.\n\nLet's collaborate\, share insights\, and spark new ideas to elevate our businesses!
X-ALT-DESC;FMTTYPE=text/html:<p --cyv3zq:="" --gjplxq:="" letter-spacing:="" line-height:="" yafdjrjllfa="">Retail &amp\; Beyond Roundtable 2025 - AI &amp\; Facebook: Leveraging Technology for Your Business<br />\n<br />\nMonday\, April 14th&nbsp\;| 8:30am-10:30am | Sauk Prairie Riverway Welcome Center<br />\n<br />\nJoin us for an insightful discussion on how <strong data-end="221" data-start="176">Artificial Intelligence (AI) and Facebook</strong> can enhance your business. Learn how to use AI tools for content creation\, customer engagement\, and advertising while maximizing Facebook&rsquo\;s features to grow your reach and brand visibility.</p>\n\n<p --cyv3zq:="" --gjplxq:="" letter-spacing:="" line-height:="" yafdjrjllfa="">Let&rsquo\;s collaborate\, share insights\, and spark new ideas to elevate our businesses!</p>\n
LOCATION:Sauk Prairie Riverway Welcome Center
UID:e.1184.34883
SEQUENCE:3
DTSTAMP:20260419T123826Z
URL:http://business.saukprairie.com/events/details/retail-beyond-roundtable-ai-facebook-leveraging-technology-for-your-business-34883
END:VEVENT

END:VCALENDAR
