BEGIN:VCALENDAR
VERSION:2.0
PRODID:-//ChamberMaster//Event Calendar 2.0//EN
METHOD:PUBLISH
X-PUBLISHED-TTL:P3D
REFRESH-INTERVAL:P3D
CALSCALE:GREGORIAN
BEGIN:VEVENT
DTSTART:20240305T233000Z
DTEND:20240306T003000Z
X-MICROSOFT-CDO-ALLDAYEVENT:FALSE
SUMMARY:Pop-Up Flow with Megan
DESCRIPTION:Pop-Up Flow with Megan @ Prairie Fire Yoga\n\n\n\nTuesday\, March 5th 5:30 PM - 6:30 PM
X-ALT-DESC;FMTTYPE=text/html:Pop-Up Flow with Megan @ Prairie Fire Yoga<br />\n<br />\nTuesday\, March 5th 5:30 PM - 6:30 PM
LOCATION:Prairie Fire Yoga
UID:e.1184.32055
SEQUENCE:3
DTSTAMP:20260420T071843Z
URL:http://business.saukprairie.com/events/details/pop-up-flow-with-megan-32055
END:VEVENT

END:VCALENDAR
