BEGIN:VCALENDAR
VERSION:2.0
PRODID:-//ChamberMaster//Event Calendar 2.0//EN
METHOD:PUBLISH
X-PUBLISHED-TTL:P3D
REFRESH-INTERVAL:P3D
CALSCALE:GREGORIAN
BEGIN:VEVENT
DTSTART:20240824T000000Z
DTEND:20240824T020000Z
X-MICROSOFT-CDO-ALLDAYEVENT:FALSE
SUMMARY:Ponyfolk
DESCRIPTION:PonyFolk\n\nFriday\, August 23rd\, 2024 7pm\n\n$15\n\nat River Arts Gallery on Water (590 Water Street\, Prairie du Sac\, WI 53578)\n\nPonyfolk was founded in 2014 by Clifton Nesseth and Paul Sauey. Rooting their sound in a mutual appreciation of folk\, rock\, and orchestral music\, the pair's multi-instrumentalist abilities and vocal harmonies have carved them out a reputation of creating maximalist soundscapes that are defined by droning layers of guitars\, strings\, and synth textures   undergirding emotionally evocative lyrical imagery. Recently\, they have been working to build musical bridges at the intersection of old time Nordic music\, Americana\, and modern indie folk performing in a variety of styles and ensemble configurations. They are often joined by Aaron Hayes (drums)\, Alex Nelson (keyboards)\, and Mikey Marget (cello).
X-ALT-DESC;FMTTYPE=text/html:<p><strong>PonyFolk</strong></p>\n\n<p><strong>Friday\, August 23rd\, 2024 7pm</strong></p>\n\n<p>$15</p>\n\n<p><strong>at River Arts Gallery on Water (590 Water Street\, Prairie du Sac\, WI 53578)</strong></p>\n\n<p>Ponyfolk was founded in 2014 by Clifton Nesseth and Paul Sauey. Rooting their sound in a mutual appreciation of folk\, rock\, and orchestral music\, the pair&rsquo\;s multi-instrumentalist abilities and vocal harmonies have carved them out a reputation of creating maximalist soundscapes that are defined by droning layers of guitars\, strings\, and synth textures &ndash\; undergirding emotionally evocative lyrical imagery. Recently\, they have been working to build musical&nbsp\;bridges at the&nbsp\;intersection of old time Nordic music\, Americana\, and modern indie folk performing in a variety of styles and ensemble configurations. They are often joined by Aaron Hayes (drums)\, Alex Nelson (keyboards)\, and Mikey Marget (cello).</p>\n
LOCATION:River Arts Gallery on Water
UID:e.1184.32854
SEQUENCE:3
DTSTAMP:20260420T000244Z
URL:http://business.saukprairie.com/events/details/ponyfolk-32854
END:VEVENT

END:VCALENDAR
