BEGIN:VCALENDAR
VERSION:2.0
PRODID:-//ChamberMaster//Event Calendar 2.0//EN
METHOD:PUBLISH
X-PUBLISHED-TTL:P3D
REFRESH-INTERVAL:P3D
CALSCALE:GREGORIAN
BEGIN:VEVENT
DTSTART:20240925T210000Z
DTEND:20240925T220000Z
X-MICROSOFT-CDO-ALLDAYEVENT:FALSE
SUMMARY:Pokemon Club
DESCRIPTION:Bring your Pok mon cards and/or your game devices to the library and meet with other Pok mon enthusiasts to battle\, trade\, and play. For Pok mon Go players\, we will have a lure on one of our local Pok stops.
X-ALT-DESC;FMTTYPE=text/html:Bring your Pok&eacute\;mon cards and/or your game devices to the library and meet with other Pok&eacute\;mon enthusiasts to battle\, trade\, and play. For Pok&eacute\;mon Go players\, we will have a lure on one of our local Pok&eacute\;stops.
LOCATION:Ruth Culver Community Library - Prairie du Sac
UID:e.1184.33050
SEQUENCE:3
DTSTAMP:20260419T225318Z
URL:http://business.saukprairie.com/events/details/pokemon-club-33050
END:VEVENT

END:VCALENDAR
