BEGIN:VCALENDAR
VERSION:2.0
PRODID:-//ChamberMaster//Event Calendar 2.0//EN
METHOD:PUBLISH
X-PUBLISHED-TTL:P3D
REFRESH-INTERVAL:P3D
CALSCALE:GREGORIAN
BEGIN:VEVENT
DTSTART:20240905T230000Z
DTEND:20240906T010000Z
X-MICROSOFT-CDO-ALLDAYEVENT:FALSE
SUMMARY:Pinots on the Patio
DESCRIPTION:Enjoy various wines made from pinot grapes at Water Street Social Club. Owners Tricia and Jesse will mingle and chat about the wines. Cost will be approximately $15 for the tastings.
X-ALT-DESC;FMTTYPE=text/html:Enjoy various wines made from pinot grapes at Water Street Social Club. Owners Tricia and Jesse will mingle and chat about the wines. Cost will be approximately $15 for the tastings.
LOCATION:Water Street Social Club
UID:e.1184.33025
SEQUENCE:3
DTSTAMP:20260419T225318Z
URL:http://business.saukprairie.com/events/details/pinots-on-the-patio-33025
END:VEVENT

END:VCALENDAR
