BEGIN:VCALENDAR
VERSION:2.0
PRODID:-//ChamberMaster//Event Calendar 2.0//EN
METHOD:PUBLISH
X-PUBLISHED-TTL:P3D
REFRESH-INTERVAL:P3D
CALSCALE:GREGORIAN
BEGIN:VEVENT
DTSTART:20240822T234500Z
DTEND:20240823T010000Z
X-MICROSOFT-CDO-ALLDAYEVENT:FALSE
SUMMARY:Phone Photography 101
DESCRIPTION:Want to take better pictures of memorable moments\, but don't have a fancy camera? This free class led by Natalia Noltemeyer will go through the ins and outs of taking high quality pictures using just your phone!\n\n\n\nAll phones and skill sets welcome.
X-ALT-DESC;FMTTYPE=text/html:Want to take better pictures of memorable moments\, but don&rsquo\;t have a fancy camera? This free class led by Natalia Noltemeyer will go through the ins and outs of taking high quality pictures using just your phone!<br />\n<br />\nAll phones and skill sets welcome.
LOCATION:Ruth Culver Community Library (Prairie du Sac)
UID:e.1184.32986
SEQUENCE:3
DTSTAMP:20260420T000851Z
URL:http://business.saukprairie.com/events/details/phone-photography-101-32986
END:VEVENT

END:VCALENDAR
