BEGIN:VCALENDAR
VERSION:2.0
PRODID:-//ChamberMaster//Event Calendar 2.0//EN
METHOD:PUBLISH
X-PUBLISHED-TTL:P3D
REFRESH-INTERVAL:P3D
CALSCALE:GREGORIAN
BEGIN:VEVENT
DTSTART:20230816T180000Z
DTEND:20230816T190000Z
X-MICROSOFT-CDO-ALLDAYEVENT:FALSE
SUMMARY:Pebble Art
DESCRIPTION:Express yourself by turning ordinary pebbles into a work of art. Recommended for ages 6-12. Registration is required. Call or stop in to sign up!
X-ALT-DESC;FMTTYPE=text/html:Express yourself by turning ordinary pebbles into a work of art. Recommended for ages 6-12. Registration is required. Call or stop in to sign up!
LOCATION:615 Phillips Blvd. Sauk City\, WI 53583
UID:e.1184.30913
SEQUENCE:3
DTSTAMP:20260420T164916Z
URL:http://business.saukprairie.com/events/details/pebble-art-30913
END:VEVENT

END:VCALENDAR
