BEGIN:VCALENDAR
VERSION:2.0
PRODID:-//ChamberMaster//Event Calendar 2.0//EN
METHOD:PUBLISH
X-PUBLISHED-TTL:P3D
REFRESH-INTERVAL:P3D
CALSCALE:GREGORIAN
BEGIN:VEVENT
DTSTART:20241012T210000Z
DTEND:20241013T020000Z
X-MICROSOFT-CDO-ALLDAYEVENT:FALSE
SUMMARY:Parktoberfest
DESCRIPTION:Culver Community Park's Fourth Annual Parktoberfest! Join us on October 12th from 4-9pm.\n\n \n\nBeer Garden 4-9pm\n\nMeat Raffle @ 8:30pm\n\nFood Trucks 4-9pm\n\nLive Music by Lights Out Band 5-8:30pm\n\nKids Games 4-7pm
X-ALT-DESC;FMTTYPE=text/html:<div color:="" font-size:="" segoe="" ui="">\n<div caret-color:="" color:="" font-size:="">\n<div>Culver Community Park&#39\;s Fourth Annual Parktoberfest! Join us on October 12th from 4-9pm.<br />\n&nbsp\;</div>\n\n<div>Beer Garden 4-9pm<br />\nMeat Raffle @ 8:30pm<br />\nFood Trucks 4-9pm<br />\nLive Music by Lights Out Band 5-8:30pm<br />\nKids Games 4-7pm</div>\n</div>\n</div>\n
LOCATION:Culver Community Park
UID:e.1184.32890
SEQUENCE:3
DTSTAMP:20260419T213044Z
URL:http://business.saukprairie.com/events/details/parktoberfest-32890
END:VEVENT

END:VCALENDAR
