BEGIN:VCALENDAR
VERSION:2.0
PRODID:-//ChamberMaster//Event Calendar 2.0//EN
METHOD:PUBLISH
X-PUBLISHED-TTL:P3D
REFRESH-INTERVAL:P3D
CALSCALE:GREGORIAN
BEGIN:VEVENT
DTSTART:20240712T230000Z
DTEND:20240713T010000Z
X-MICROSOFT-CDO-ALLDAYEVENT:FALSE
SUMMARY:Paint and Sip with Jyneal Radke
DESCRIPTION:Unleash your inner artist while sipping on an adult beverage at this relaxing Paint and Sip class!  No prior painting experience? No problem! Our talented instructor\, Jyneal Radke\, will guide you step-by-step through creating your 12 12  masterpiece\, ensuring an evening filled with laughter\, relaxation\, and inspiration. Whether you're celebrating a special occasion or simply looking for a fun night out\, our Paint and Sip class promises to ignite your passion for painting while indulging your desire to unwind and spend time in great company. Book your canvas today and let the creativity flow.\n\nDuring your class you can also enjoy:\n\n\n$5 glasses of house wine\n\n$11 bottles of wine\n\n$4 cans of beer or hard seltzer\n\n\n\n \n\nPaint and Sip with Jyneal Radke\n\n590 Water St\, Prairie du Sac\, WI 53578\n\nFriday\, July 12\, 2024 | 6-8p | Deadline to register: July 5\, 2024\n\n$45\n\nAges 21+
X-ALT-DESC;FMTTYPE=text/html:<p>Unleash your inner artist while sipping on an adult beverage at this relaxing Paint and Sip class!&nbsp\; No prior painting experience? No problem! Our talented instructor\, Jyneal Radke\, will guide you step-by-step through creating your 12&times\;12&Prime\; masterpiece\, ensuring an evening filled with laughter\, relaxation\, and inspiration. Whether you&rsquo\;re celebrating a special occasion or simply looking for a fun night out\, our Paint and Sip class promises to ignite your passion for painting while indulging your desire to unwind and spend time in great company. Book your canvas today and let the creativity flow.</p>\n\n<p><strong>During your class you can also enjoy:</strong></p>\n\n<div>\n<p>$5 glasses of house wine</p>\n\n<p>$11 bottles of wine</p>\n\n<p>$4 cans of beer or hard seltzer<br />\n<br />\n&nbsp\;</p>\n\n<p><strong>Paint and Sip with Jyneal Radke</strong></p>\n\n<p><strong>590 Water St\, Prairie du Sac\, WI 53578</strong></p>\n\n<p><strong>Friday\, July 12\, 2024 | 6-8p</strong>&nbsp\;| Deadline to register: July 5\, 2024</p>\n\n<p><strong>$45</strong></p>\n\n<p><strong>Ages 21+</strong></p>\n</div>\n
LOCATION:River Arts Gallery on Water
UID:e.1184.32845
SEQUENCE:3
DTSTAMP:20260420T014130Z
URL:http://business.saukprairie.com/events/details/paint-and-sip-with-jyneal-radke-32845
END:VEVENT

END:VCALENDAR
