BEGIN:VCALENDAR
VERSION:2.0
PRODID:-//ChamberMaster//Event Calendar 2.0//EN
METHOD:PUBLISH
X-PUBLISHED-TTL:P3D
REFRESH-INTERVAL:P3D
CALSCALE:GREGORIAN
BEGIN:VEVENT
DTSTART:20230831T000000Z
DTEND:20230831T020000Z
X-MICROSOFT-CDO-ALLDAYEVENT:FALSE
SUMMARY:Outdoor Movie Night
DESCRIPTION:CREATE is teaming up with Prevail Bank and Skyward\, Inc. to host FREE outdoor movie nights August 11th and 30th! Join us on the Square in Downtown Stevens Point for SCHOOL OF ROCK on the 11th and at the Lake Pacawa Park Bandshell for LUCA on the 30th
X-ALT-DESC;FMTTYPE=text/html:<span style="color: rgb(5\, 5\, 5)\; font-family: &quot\;Segoe UI Historic&quot\;\, &quot\;Segoe UI&quot\;\, Helvetica\, Arial\, sans-serif\; font-size: 15px\; white-space-collapse: preserve\;">CREATE is teaming up with </span><span style="font-family: &quot\;Segoe UI Historic&quot\;\, &quot\;Segoe UI&quot\;\, Helvetica\, Arial\, sans-serif\; color: rgb(5\, 5\, 5)\; font-size: 15px\; white-space-collapse: preserve\;"><a class="x1i10hfl xjbqb8w x6umtig x1b1mbwd xaqea5y xav7gou x9f619 x1ypdohk xt0psk2 xe8uvvx xdj266r x11i5rnm xat24cr x1mh8g0r xexx8yu x4uap5 x18d9i69 xkhd6sd x16tdsg8 x1hl2dhg xggy1nq x1a2a7pz xt0b8zv x1qq9wsj xo1l8bm" href="https://www.facebook.com/PrevailBank?__cft__[0]=AZW_JMRlNi8nw6Zzix4psPv9XSjqPrl6vCVPqgcqBmk6FsqvKCRAov4SzvL6NmQhGcazzgBR5ApbASmDz_q7ucHyYfFHXYQQUbRFfTDVSZwUBCr3JYs9TR0AkN_a6z91wvrFPjZcKsqn3oBHOAgdsZSvthreArxaQM45uOOWIq40XmdPEyP7Z212eAPTfujDm3nCD8ktHERVYChopWv6LTe4X1XF5N12dzNJlj0XlDfOxJvRly9RxfF3yhUIhobTsfQ&amp\;__tn__=-]K-y-R" role="link" style="color: var(--accent)\; cursor: pointer\; text-decoration-line: none\; border-width: 0px\; border-style: initial\; border-color: initial\; outline: none\; list-style: none\; margin: 0px\; text-align: inherit\; padding: 0px\; -webkit-tap-highlight-color: transparent\; box-sizing: border-box\; touch-action: manipulation\; background-color: transparent\; display: inline\; font-family: inherit\;" tabindex="0">Prevail Bank</a></span><span style="color: rgb(5\, 5\, 5)\; font-family: &quot\;Segoe UI Historic&quot\;\, &quot\;Segoe UI&quot\;\, Helvetica\, Arial\, sans-serif\; font-size: 15px\; white-space-collapse: preserve\;"> and </span><span style="font-family: &quot\;Segoe UI Historic&quot\;\, &quot\;Segoe UI&quot\;\, Helvetica\, Arial\, sans-serif\; color: rgb(5\, 5\, 5)\; font-size: 15px\; white-space-collapse: preserve\;"><a class="x1i10hfl xjbqb8w x6umtig x1b1mbwd xaqea5y xav7gou x9f619 x1ypdohk xt0psk2 xe8uvvx xdj266r x11i5rnm xat24cr x1mh8g0r xexx8yu x4uap5 x18d9i69 xkhd6sd x16tdsg8 x1hl2dhg xggy1nq x1a2a7pz xt0b8zv x1qq9wsj xo1l8bm" href="https://www.facebook.com/Skyward.Inc?__cft__[0]=AZW_JMRlNi8nw6Zzix4psPv9XSjqPrl6vCVPqgcqBmk6FsqvKCRAov4SzvL6NmQhGcazzgBR5ApbASmDz_q7ucHyYfFHXYQQUbRFfTDVSZwUBCr3JYs9TR0AkN_a6z91wvrFPjZcKsqn3oBHOAgdsZSvthreArxaQM45uOOWIq40XmdPEyP7Z212eAPTfujDm3nCD8ktHERVYChopWv6LTe4X1XF5N12dzNJlj0XlDfOxJvRly9RxfF3yhUIhobTsfQ&amp\;__tn__=-]K-y-R" role="link" style="color: var(--accent)\; cursor: pointer\; text-decoration-line: none\; border-width: 0px\; border-style: initial\; border-color: initial\; outline: none\; list-style: none\; margin: 0px\; text-align: inherit\; padding: 0px\; -webkit-tap-highlight-color: transparent\; box-sizing: border-box\; touch-action: manipulation\; background-color: transparent\; display: inline\; font-family: inherit\;" tabindex="0">Skyward\, Inc.</a></span><span style="color: rgb(5\, 5\, 5)\; font-family: &quot\;Segoe UI Historic&quot\;\, &quot\;Segoe UI&quot\;\, Helvetica\, Arial\, sans-serif\; font-size: 15px\; white-space-collapse: preserve\;"> to host FREE outdoor movie nights August 11th and 30th! Join us on the Square in </span><span style="font-family: &quot\;Segoe UI Historic&quot\;\, &quot\;Segoe UI&quot\;\, Helvetica\, Arial\, sans-serif\; color: rgb(5\, 5\, 5)\; font-size: 15px\; white-space-collapse: preserve\;"><a class="x1i10hfl xjbqb8w x6umtig x1b1mbwd xaqea5y xav7gou x9f619 x1ypdohk xt0psk2 xe8uvvx xdj266r x11i5rnm xat24cr x1mh8g0r xexx8yu x4uap5 x18d9i69 xkhd6sd x16tdsg8 x1hl2dhg xggy1nq x1a2a7pz xt0b8zv x1qq9wsj xo1l8bm" href="https://www.facebook.com/DowntownPoint?__cft__[0]=AZW_JMRlNi8nw6Zzix4psPv9XSjqPrl6vCVPqgcqBmk6FsqvKCRAov4SzvL6NmQhGcazzgBR5ApbASmDz_q7ucHyYfFHXYQQUbRFfTDVSZwUBCr3JYs9TR0AkN_a6z91wvrFPjZcKsqn3oBHOAgdsZSvthreArxaQM45uOOWIq40XmdPEyP7Z212eAPTfujDm3nCD8ktHERVYChopWv6LTe4X1XF5N12dzNJlj0XlDfOxJvRly9RxfF3yhUIhobTsfQ&amp\;__tn__=-]K-y-R" role="link" style="color: var(--accent)\; cursor: pointer\; text-decoration-line: none\; border-width: 0px\; border-style: initial\; border-color: initial\; outline: none\; list-style: none\; margin: 0px\; text-align: inherit\; padding: 0px\; -webkit-tap-highlight-color: transparent\; box-sizing: border-box\; touch-action: manipulation\; background-color: transparent\; display: inline\; font-family: inherit\;" tabindex="0">Downtown Stevens Point</a></span><span style="color: rgb(5\, 5\, 5)\; font-family: &quot\;Segoe UI Historic&quot\;\, &quot\;Segoe UI&quot\;\, Helvetica\, Arial\, sans-serif\; font-size: 15px\; white-space-collapse: preserve\;"> for SCHOOL OF ROCK on the 11th and at the </span><span style="font-family: &quot\;Segoe UI Historic&quot\;\, &quot\;Segoe UI&quot\;\, Helvetica\, Arial\, sans-serif\; color: rgb(5\, 5\, 5)\; font-size: 15px\; white-space-collapse: preserve\;"><a class="x1i10hfl xjbqb8w x6umtig x1b1mbwd xaqea5y xav7gou x9f619 x1ypdohk xt0psk2 xe8uvvx xdj266r x11i5rnm xat24cr x1mh8g0r xexx8yu x4uap5 x18d9i69 xkhd6sd x16tdsg8 x1hl2dhg xggy1nq x1a2a7pz xt0b8zv x1qq9wsj xo1l8bm" href="https://www.facebook.com/Lake-Pacawa-151072488238399/?__cft__[0]=AZW_JMRlNi8nw6Zzix4psPv9XSjqPrl6vCVPqgcqBmk6FsqvKCRAov4SzvL6NmQhGcazzgBR5ApbASmDz_q7ucHyYfFHXYQQUbRFfTDVSZwUBCr3JYs9TR0AkN_a6z91wvrFPjZcKsqn3oBHOAgdsZSvthreArxaQM45uOOWIq40XmdPEyP7Z212eAPTfujDm3nCD8ktHERVYChopWv6LTe4X1XF5N12dzNJlj0XlDfOxJvRly9RxfF3yhUIhobTsfQ&amp\;__tn__=kK-y-R" role="link" style="color: var(--accent)\; cursor: pointer\; text-decoration-line: none\; border-width: 0px\; border-style: initial\; border-color: initial\; outline: none\; list-style: none\; margin: 0px\; text-align: inherit\; padding: 0px\; -webkit-tap-highlight-color: transparent\; box-sizing: border-box\; touch-action: manipulation\; background-color: transparent\; display: inline\; font-family: inherit\;" tabindex="0">Lake Pacawa</a></span><span style="color: rgb(5\, 5\, 5)\; font-family: &quot\;Segoe UI Historic&quot\;\, &quot\;Segoe UI&quot\;\, Helvetica\, Arial\, sans-serif\; font-size: 15px\; white-space-collapse: preserve\;"> Park Bandshell for LUCA on the 30th</span>
LOCATION:On the Square\, Downtown Stevens Points
UID:e.1184.30925
SEQUENCE:3
DTSTAMP:20260420T170435Z
URL:http://business.saukprairie.com/events/details/outdoor-movie-night-30925
END:VEVENT

END:VCALENDAR
